{"text_format":"1","workbook":"xlsx","n_sheets":2,"sheets":["Menù","Ordini"],"not_rendered":{"charts":0,"images":0,"macros":1,"external_links":0,"defined_names":2,"comments":0,"pivot_tables":0},"unopened":[],"bounds":{"document_bytes":16777216,"sheet_cells":100000,"rows_first":2000,"rows_last":500,"rows_between":2000,"halvings":0,"cell_chars":16384,"cell_head_chars":4096},"cells_cut":0,"cells_raw":0,"read":"whole","date_system":"1900"}

{"sheet":"Menù","index":0,"n_rows":36,"n_cols":3,"rows_kept":36,"cut":false,"hidden":false,"merged":[]}
["NOME","PREZZO","TIPOLOGIA"]
["Antipasto misto Terra",10,"Antipasto"]
["Antipasto misto mare",12,"Antipasto"]
["Crostini",8,"Antipasto"]
["spaghetti allo scoglio",12,"Primo"]
["Spaghetti all'arrabbiata",8,"Primo"]
["spaghetti al pesto",9,"Primo"]
["Risotto alla pescatora",13,"Primo"]
["Risotto ai porcini",12,"Primo"]
["Braciola di maiale",10,"Secondo"]
["Bistecca di manzo",12,"Secondo"]
["Bistecca di cavallo",12,"Secondo"]
["Fritto misto",14,"Secondo"]
["Grigliata mista",14,"Secondo"]
["Patate fritte",4,"Contorno"]
["patate al forno",5,"Contorno"]
["Verdure grigliate",3,"Contorno"]
["Insalata mista",2,"Contorno"]
["Torta della nonna",4.5,"Dolce"]
["Torta al cioccolato",4.5,"Dolce"]
["Tiramisù",4.5,"Dolce"]
["Crostata",4.5,"Dolce"]
["Caffè",1.2,"Bar"]
["Amaro erbe",4.5,"Bar"]
["Grappa",4.5,"Bar"]
["Digestivo",3,"Bar"]
["Bibite in lattina",3,"Bar"]
["Bibite in bottiglia",3.5,"Bar"]
["Birra 33 cl",4,"Bar"]
["Birra 66 cl",4.8,"Bar"]
["Birra alla Spina 0,20",4,"Bar"]
["Birra alla Spina 0,40",5,"Bar"]
["Acqua Naturale 1L.",2,"Bar"]
["Acqua Frizzante 1L.",2.2000000000000002,"Bar"]
["Acqua Naturale 1/2 L.",1.2,"Bar"]
["Acqua Frizzante 1/2 L.",1.3,"Bar"]

{"sheet":"Ordini","index":1,"n_rows":1004,"n_cols":6,"rows_kept":1004,"cut":false,"hidden":false,"merged":[[1003,1,1003,3],[1001,1,1001,3],[1002,2,1002,3],[2,2,3,3],[2,1,3,1]]}
["Incasso odierno",{"$f":"SUM(E4:E1000)","v":282.8}]
[]
[null,"Tavolo N°",{"$f":"IF(SUBTOTAL(4,$A$6:$A$1000)<>SUBTOTAL(5,$A$1:$A$1000),\"Tutti\",$A$1002)","v":"Tutti"}]
[]
["N° TAVOLO","ORDINE","Q.TA'","PREZZO SINGOLO","PREZZO TOTALE"]
[1,"Spaghetti all'arrabbiata",1,{"$f":"IF(B6=\"\",\"\",VLOOKUP(B6,Menù!$A$2:$C$1000,2,FALSE))","v":8},{"$f":"IF(B6=\"\",\"\",IF(C6=\"\",\"Scrivi la Quantità\",C6*D6))","v":8},{"$f":"IF(B6=\"\",\"\",IF(A6=\"\",\"Manca il tavolo!!!\",\"\"))","v":""}]
[2,"Birra 66 cl",2,{"$f":"IF(B7=\"\",\"\",VLOOKUP(B7,Menù!$A$2:$C$1000,2,FALSE))","v":4.8},{"$f":"IF(B7=\"\",\"\",IF(C7=\"\",\"Scrivi la Quantità\",C7*D7))","v":9.6},{"$f":"IF(B7=\"\",\"\",IF(A7=\"\",\"Manca il tavolo!!!\",\"\"))","v":""}]
[1,"spaghetti allo scoglio",2,{"$f":"IF(B8=\"\",\"\",VLOOKUP(B8,Menù!$A$2:$C$1000,2,FALSE))","v":12},24,{"$f":"IF(B8=\"\",\"\",IF(A8=\"\",\"Manca il tavolo!!!\",\"\"))","v":""}]
[22,"Antipasto misto Terra",2,{"$f":"IF(B9=\"\",\"\",VLOOKUP(B9,Menù!$A$2:$C$1000,2,FALSE))","v":10},20,""]
[21,"Antipasto misto mare",3,{"$f":"IF(B10=\"\",\"\",VLOOKUP(B10,Menù!$A$2:$C$1000,2,FALSE))","v":12},36,""]
[22,"Crostini",4,{"$f":"IF(B11=\"\",\"\",VLOOKUP(B11,Menù!$A$2:$C$1000,2,FALSE))","v":8},32,""]
[22,"Spaghetti all'arrabbiata",1,{"$f":"IF(B12=\"\",\"\",VLOOKUP(B12,Menù!$A$2:$C$1000,2,FALSE))","v":8},8,""]
[22,"spaghetti al pesto",1,{"$f":"IF(B13=\"\",\"\",VLOOKUP(B13,Menù!$A$2:$C$1000,2,FALSE))","v":9},9,""]
[22,"Fritto misto",2,{"$f":"IF(B14=\"\",\"\",VLOOKUP(B14,Menù!$A$2:$C$1000,2,FALSE))","v":14},28,""]
[22,"Tiramisù",2,{"$f":"IF(B15=\"\",\"\",VLOOKUP(B15,Menù!$A$2:$C$1000,2,FALSE))","v":4.5},9,""]
[22,"Birra 66 cl",1,{"$f":"IF(B16=\"\",\"\",VLOOKUP(B16,Menù!$A$2:$C$1000,2,FALSE))","v":4.8},4.8,""]
[22,"Acqua Naturale 1L.",1,{"$f":"IF(B17=\"\",\"\",VLOOKUP(B17,Menù!$A$2:$C$1000,2,FALSE))","v":2},2,""]
[22,"Caffè",2,{"$f":"IF(B18=\"\",\"\",VLOOKUP(B18,Menù!$A$2:$C$1000,2,FALSE))","v":1.2},2.4,""]
[21,"spaghetti allo scoglio",2,{"$f":"IF(B19=\"\",\"\",VLOOKUP(B19,Menù!$A$2:$C$1000,2,FALSE))","v":12},24,""]
[21,"Risotto ai porcini",1,{"$f":"IF(B20=\"\",\"\",VLOOKUP(B20,Menù!$A$2:$C$1000,2,FALSE))","v":12},12,""]
[21,"Bistecca di manzo",3,{"$f":"IF(B21=\"\",\"\",VLOOKUP(B21,Menù!$A$2:$C$1000,2,FALSE))","v":12},36,""]
[21,"Birra 66 cl",3,{"$f":"IF(B22=\"\",\"\",VLOOKUP(B22,Menù!$A$2:$C$1000,2,FALSE))","v":4.8},14.399999999999999,""]
[21,"Caffè",3,{"$f":"IF(B23=\"\",\"\",VLOOKUP(B23,Menù!$A$2:$C$1000,2,FALSE))","v":1.2},3.5999999999999996,""]
[null,null,null,{"$f":"IF(B24=\"\",\"\",VLOOKUP(B24,Menù!$A$2:$C$1000,2,FALSE))","v":""},"",""]
[null,null,null,{"$f":"IF(B25=\"\",\"\",VLOOKUP(B25,Menù!$A$2:$C$1000,2,FALSE))","v":""},"",""]
[null,null,null,{"$f":"IF(B26=\"\",\"\",VLOOKUP(B26,Menù!$A$2:$C$1000,2,FALSE))","v":""},"",""]
[null,null,null,{"$f":"IF(B27=\"\",\"\",VLOOKUP(B27,Menù!$A$2:$C$1000,2,FALSE))","v":""},"",""]
[null,null,null,{"$f":"IF(B28=\"\",\"\",VLOOKUP(B28,Menù!$A$2:$C$1000,2,FALSE))","v":""},"",""]
[null,null,null,{"$f":"IF(B29=\"\",\"\",VLOOKUP(B29,Menù!$A$2:$C$1000,2,FALSE))","v":""},"",""]
[null,null,null,{"$f":"IF(B30=\"\",\"\",VLOOKUP(B30,Menù!$A$2:$C$1000,2,FALSE))","v":""},"",""]
[null,null,null,{"$f":"IF(B31=\"\",\"\",VLOOKUP(B31,Menù!$A$2:$C$1000,2,FALSE))","v":""},"",""]
[null,null,null,{"$f":"IF(B32=\"\",\"\",VLOOKUP(B32,Menù!$A$2:$C$1000,2,FALSE))","v":""},"",""]
[null,null,null,{"$f":"IF(B33=\"\",\"\",VLOOKUP(B33,Menù!$A$2:$C$1000,2,FALSE))","v":""},"",""]
[null,null,null,{"$f":"IF(B34=\"\",\"\",VLOOKUP(B34,Menù!$A$2:$C$1000,2,FALSE))","v":""},"",""]
[null,null,null,{"$f":"IF(B35=\"\",\"\",VLOOKUP(B35,Menù!$A$2:$C$1000,2,FALSE))","v":""},"",""]
[null,null,null,{"$f":"IF(B36=\"\",\"\",VLOOKUP(B36,Menù!$A$2:$C$1000,2,FALSE))","v":""},"",""]
[null,null,null,{"$f":"IF(B37=\"\",\"\",VLOOKUP(B37,Menù!$A$2:$C$1000,2,FALSE))","v":""},"",""]
[null,null,null,{"$f":"IF(B38=\"\",\"\",VLOOKUP(B38,Menù!$A$2:$C$1000,2,FALSE))","v":""},"",""]
[null,null,null,{"$f":"IF(B39=\"\",\"\",VLOOKUP(B39,Menù!$A$2:$C$1000,2,FALSE))","v":""},"",""]
[null,null,null,{"$f":"IF(B40=\"\",\"\",VLOOKUP(B40,Menù!$A$2:$C$1000,2,FALSE))","v":""},"",""]
[null,null,null,{"$f":"IF(B41=\"\",\"\",VLOOKUP(B41,Menù!$A$2:$C$1000,2,FALSE))","v":""},"",""]
[null,null,null,{"$f":"IF(B42=\"\",\"\",VLOOKUP(B42,Menù!$A$2:$C$1000,2,FALSE))","v":""},"",""]
[null,null,null,{"$f":"IF(B43=\"\",\"\",VLOOKUP(B43,Menù!$A$2:$C$1000,2,FALSE))","v":""},"",""]
[null,null,null,{"$f":"IF(B44=\"\",\"\",VLOOKUP(B44,Menù!$A$2:$C$1000,2,FALSE))","v":""},"",""]
[null,null,null,{"$f":"IF(B45=\"\",\"\",VLOOKUP(B45,Menù!$A$2:$C$1000,2,FALSE))","v":""},"",""]
[null,null,null,{"$f":"IF(B46=\"\",\"\",VLOOKUP(B46,Menù!$A$2:$C$1000,2,FALSE))","v":""},"",""]
[null,null,null,{"$f":"IF(B47=\"\",\"\",VLOOKUP(B47,Menù!$A$2:$C$1000,2,FALSE))","v":""},"",""]
[null,null,null,{"$f":"IF(B48=\"\",\"\",VLOOKUP(B48,Menù!$A$2:$C$1000,2,FALSE))","v":""},"",""]
[null,null,null,{"$f":"IF(B49=\"\",\"\",VLOOKUP(B49,Menù!$A$2:$C$1000,2,FALSE))","v":""},"",""]
[null,null,null,{"$f":"IF(B50=\"\",\"\",VLOOKUP(B50,Menù!$A$2:$C$1000,2,FALSE))","v":""},"",""]
[null,null,null,{"$f":"IF(B51=\"\",\"\",VLOOKUP(B51,Menù!$A$2:$C$1000,2,FALSE))","v":""},"",""]
[null,null,null,{"$f":"IF(B52=\"\",\"\",VLOOKUP(B52,Menù!$A$2:$C$1000,2,FALSE))","v":""},"",""]
[null,null,null,{"$f":"IF(B53=\"\",\"\",VLOOKUP(B53,Menù!$A$2:$C$1000,2,FALSE))","v":""},"",""]
[null,null,null,{"$f":"IF(B54=\"\",\"\",VLOOKUP(B54,Menù!$A$2:$C$1000,2,FALSE))","v":""},"",""]
[null,null,null,{"$f":"IF(B55=\"\",\"\",VLOOKUP(B55,Menù!$A$2:$C$1000,2,FALSE))","v":""},"",""]
[null,null,null,{"$f":"IF(B56=\"\",\"\",VLOOKUP(B56,Menù!$A$2:$C$1000,2,FALSE))","v":""},"",""]
[null,null,null,{"$f":"IF(B57=\"\",\"\",VLOOKUP(B57,Menù!$A$2:$C$1000,2,FALSE))","v":""},"",""]
[null,null,null,{"$f":"IF(B58=\"\",\"\",VLOOKUP(B58,Menù!$A$2:$C$1000,2,FALSE))","v":""},"",""]
[null,null,null,{"$f":"IF(B59=\"\",\"\",VLOOKUP(B59,Menù!$A$2:$C$1000,2,FALSE))","v":""},"",""]
[null,null,null,{"$f":"IF(B60=\"\",\"\",VLOOKUP(B60,Menù!$A$2:$C$1000,2,FALSE))","v":""},"",""]
[null,null,null,{"$f":"IF(B61=\"\",\"\",VLOOKUP(B61,Menù!$A$2:$C$1000,2,FALSE))","v":""},"",""]
[null,null,null,{"$f":"IF(B62=\"\",\"\",VLOOKUP(B62,Menù!$A$2:$C$1000,2,FALSE))","v":""},"",""]
[null,null,null,{"$f":"IF(B63=\"\",\"\",VLOOKUP(B63,Menù!$A$2:$C$1000,2,FALSE))","v":""},"",""]
[null,null,null,{"$f":"IF(B64=\"\",\"\",VLOOKUP(B64,Menù!$A$2:$C$1000,2,FALSE))","v":""},"",""]
[null,null,null,{"$f":"IF(B65=\"\",\"\",VLOOKUP(B65,Menù!$A$2:$C$1000,2,FALSE))","v":""},"",""]
[null,null,null,{"$f":"IF(B66=\"\",\"\",VLOOKUP(B66,Menù!$A$2:$C$1000,2,FALSE))","v":""},"",""]
[null,null,null,{"$f":"IF(B67=\"\",\"\",VLOOKUP(B67,Menù!$A$2:$C$1000,2,FALSE))","v":""},"",""]
[null,null,null,{"$f":"IF(B68=\"\",\"\",VLOOKUP(B68,Menù!$A$2:$C$1000,2,FALSE))","v":""},"",""]
[null,null,null,{"$f":"IF(B69=\"\",\"\",VLOOKUP(B69,Menù!$A$2:$C$1000,2,FALSE))","v":""},"",""]
[null,null,null,{"$f":"IF(B70=\"\",\"\",VLOOKUP(B70,Menù!$A$2:$C$1000,2,FALSE))","v":""},"",""]
[null,null,null,{"$f":"IF(B71=\"\",\"\",VLOOKUP(B71,Menù!$A$2:$C$1000,2,FALSE))","v":""},{"$f":"IF(B71=\"\",\"\",IF(C71=\"\",\"Scrivi la Quantità\",C71*D71))","v":""},{"$f":"IF(B71=\"\",\"\",IF(A71=\"\",\"Manca il tavolo!!!\",\"\"))","v":""}]
[null,null,null,{"$f":"IF(B72=\"\",\"\",VLOOKUP(B72,Menù!$A$2:$C$1000,2,FALSE))","v":""},"",""]
[null,null,null,{"$f":"IF(B73=\"\",\"\",VLOOKUP(B73,Menù!$A$2:$C$1000,2,FALSE))","v":""},"",""]
[null,null,null,{"$f":"IF(B74=\"\",\"\",VLOOKUP(B74,Menù!$A$2:$C$1000,2,FALSE))","v":""},"",""]
[null,null,null,{"$f":"IF(B75=\"\",\"\",VLOOKUP(B75,Menù!$A$2:$C$1000,2,FALSE))","v":""},"",""]
[null,null,null,{"$f":"IF(B76=\"\",\"\",VLOOKUP(B76,Menù!$A$2:$C$1000,2,FALSE))","v":""},"",""]
[null,null,null,{"$f":"IF(B77=\"\",\"\",VLOOKUP(B77,Menù!$A$2:$C$1000,2,FALSE))","v":""},"",""]
[null,null,null,{"$f":"IF(B78=\"\",\"\",VLOOKUP(B78,Menù!$A$2:$C$1000,2,FALSE))","v":""},"",""]
[null,null,null,{"$f":"IF(B79=\"\",\"\",VLOOKUP(B79,Menù!$A$2:$C$1000,2,FALSE))","v":""},"",""]
[null,null,null,{"$f":"IF(B80=\"\",\"\",VLOOKUP(B80,Menù!$A$2:$C$1000,2,FALSE))","v":""},"",""]
[null,null,null,{"$f":"IF(B81=\"\",\"\",VLOOKUP(B81,Menù!$A$2:$C$1000,2,FALSE))","v":""},"",""]
[null,null,null,{"$f":"IF(B82=\"\",\"\",VLOOKUP(B82,Menù!$A$2:$C$1000,2,FALSE))","v":""},"",""]
[null,null,null,{"$f":"IF(B83=\"\",\"\",VLOOKUP(B83,Menù!$A$2:$C$1000,2,FALSE))","v":""},"",""]
[null,null,null,{"$f":"IF(B84=\"\",\"\",VLOOKUP(B84,Menù!$A$2:$C$1000,2,FALSE))","v":""},"",""]
[null,null,null,{"$f":"IF(B85=\"\",\"\",VLOOKUP(B85,Menù!$A$2:$C$1000,2,FALSE))","v":""},"",""]
[null,null,null,{"$f":"IF(B86=\"\",\"\",VLOOKUP(B86,Menù!$A$2:$C$1000,2,FALSE))","v":""},"",""]
[null,null,null,{"$f":"IF(B87=\"\",\"\",VLOOKUP(B87,Menù!$A$2:$C$1000,2,FALSE))","v":""},"",""]
[null,null,null,{"$f":"IF(B88=\"\",\"\",VLOOKUP(B88,Menù!$A$2:$C$1000,2,FALSE))","v":""},"",""]
[null,null,null,{"$f":"IF(B89=\"\",\"\",VLOOKUP(B89,Menù!$A$2:$C$1000,2,FALSE))","v":""},"",""]
[null,null,null,{"$f":"IF(B90=\"\",\"\",VLOOKUP(B90,Menù!$A$2:$C$1000,2,FALSE))","v":""},"",""]
[null,null,null,{"$f":"IF(B91=\"\",\"\",VLOOKUP(B91,Menù!$A$2:$C$1000,2,FALSE))","v":""},"",""]
[null,null,null,{"$f":"IF(B92=\"\",\"\",VLOOKUP(B92,Menù!$A$2:$C$1000,2,FALSE))","v":""},"",""]
[null,null,null,{"$f":"IF(B93=\"\",\"\",VLOOKUP(B93,Menù!$A$2:$C$1000,2,FALSE))","v":""},"",""]
[null,null,null,{"$f":"IF(B94=\"\",\"\",VLOOKUP(B94,Menù!$A$2:$C$1000,2,FALSE))","v":""},"",""]
[null,null,null,{"$f":"IF(B95=\"\",\"\",VLOOKUP(B95,Menù!$A$2:$C$1000,2,FALSE))","v":""},"",""]
[null,null,null,{"$f":"IF(B96=\"\",\"\",VLOOKUP(B96,Menù!$A$2:$C$1000,2,FALSE))","v":""},"",""]
[null,null,null,{"$f":"IF(B97=\"\",\"\",VLOOKUP(B97,Menù!$A$2:$C$1000,2,FALSE))","v":""},"",""]
[null,null,null,{"$f":"IF(B98=\"\",\"\",VLOOKUP(B98,Menù!$A$2:$C$1000,2,FALSE))","v":""},"",""]
[null,null,null,{"$f":"IF(B99=\"\",\"\",VLOOKUP(B99,Menù!$A$2:$C$1000,2,FALSE))","v":""},"",""]
[null,null,null,{"$f":"IF(B100=\"\",\"\",VLOOKUP(B100,Menù!$A$2:$C$1000,2,FALSE))","v":""},"",""]
[null,null,null,{"$f":"IF(B101=\"\",\"\",VLOOKUP(B101,Menù!$A$2:$C$1000,2,FALSE))","v":""},"",""]
[null,null,null,{"$f":"IF(B102=\"\",\"\",VLOOKUP(B102,Menù!$A$2:$C$1000,2,FALSE))","v":""},"",""]
[null,null,null,{"$f":"IF(B103=\"\",\"\",VLOOKUP(B103,Menù!$A$2:$C$1000,2,FALSE))","v":""},"",""]
[null,null,null,{"$f":"IF(B104=\"\",\"\",VLOOKUP(B104,Menù!$A$2:$C$1000,2,FALSE))","v":""},"",""]
[null,null,null,{"$f":"IF(B105=\"\",\"\",VLOOKUP(B105,Menù!$A$2:$C$1000,2,FALSE))","v":""},"",""]
[null,null,null,{"$f":"IF(B106=\"\",\"\",VLOOKUP(B106,Menù!$A$2:$C$1000,2,FALSE))","v":""},"",""]
[null,null,null,{"$f":"IF(B107=\"\",\"\",VLOOKUP(B107,Menù!$A$2:$C$1000,2,FALSE))","v":""},"",""]
[null,null,null,{"$f":"IF(B108=\"\",\"\",VLOOKUP(B108,Menù!$A$2:$C$1000,2,FALSE))","v":""},"",""]
[null,null,null,{"$f":"IF(B109=\"\",\"\",VLOOKUP(B109,Menù!$A$2:$C$1000,2,FALSE))","v":""},"",""]
[null,null,null,{"$f":"IF(B110=\"\",\"\",VLOOKUP(B110,Menù!$A$2:$C$1000,2,FALSE))","v":""},"",""]
[null,null,null,{"$f":"IF(B111=\"\",\"\",VLOOKUP(B111,Menù!$A$2:$C$1000,2,FALSE))","v":""},"",""]
[null,null,null,{"$f":"IF(B112=\"\",\"\",VLOOKUP(B112,Menù!$A$2:$C$1000,2,FALSE))","v":""},"",""]
[null,null,null,{"$f":"IF(B113=\"\",\"\",VLOOKUP(B113,Menù!$A$2:$C$1000,2,FALSE))","v":""},"",""]
[null,null,null,{"$f":"IF(B114=\"\",\"\",VLOOKUP(B114,Menù!$A$2:$C$1000,2,FALSE))","v":""},"",""]
[null,null,null,{"$f":"IF(B115=\"\",\"\",VLOOKUP(B115,Menù!$A$2:$C$1000,2,FALSE))","v":""},"",""]
[null,null,null,{"$f":"IF(B116=\"\",\"\",VLOOKUP(B116,Menù!$A$2:$C$1000,2,FALSE))","v":""},"",""]
[null,null,null,{"$f":"IF(B117=\"\",\"\",VLOOKUP(B117,Menù!$A$2:$C$1000,2,FALSE))","v":""},"",""]
[null,null,null,{"$f":"IF(B118=\"\",\"\",VLOOKUP(B118,Menù!$A$2:$C$1000,2,FALSE))","v":""},"",""]
[null,null,null,{"$f":"IF(B119=\"\",\"\",VLOOKUP(B119,Menù!$A$2:$C$1000,2,FALSE))","v":""},"",""]
[null,null,null,{"$f":"IF(B120=\"\",\"\",VLOOKUP(B120,Menù!$A$2:$C$1000,2,FALSE))","v":""},"",""]
[null,null,null,{"$f":"IF(B121=\"\",\"\",VLOOKUP(B121,Menù!$A$2:$C$1000,2,FALSE))","v":""},"",""]
[null,null,null,{"$f":"IF(B122=\"\",\"\",VLOOKUP(B122,Menù!$A$2:$C$1000,2,FALSE))","v":""},"",""]
[null,null,null,{"$f":"IF(B123=\"\",\"\",VLOOKUP(B123,Menù!$A$2:$C$1000,2,FALSE))","v":""},"",""]
[null,null,null,{"$f":"IF(B124=\"\",\"\",VLOOKUP(B124,Menù!$A$2:$C$1000,2,FALSE))","v":""},"",""]
[null,null,null,{"$f":"IF(B125=\"\",\"\",VLOOKUP(B125,Menù!$A$2:$C$1000,2,FALSE))","v":""},"",""]
[null,null,null,{"$f":"IF(B126=\"\",\"\",VLOOKUP(B126,Menù!$A$2:$C$1000,2,FALSE))","v":""},"",""]
[null,null,null,{"$f":"IF(B127=\"\",\"\",VLOOKUP(B127,Menù!$A$2:$C$1000,2,FALSE))","v":""},"",""]
[null,null,null,{"$f":"IF(B128=\"\",\"\",VLOOKUP(B128,Menù!$A$2:$C$1000,2,FALSE))","v":""},"",""]
[null,null,null,{"$f":"IF(B129=\"\",\"\",VLOOKUP(B129,Menù!$A$2:$C$1000,2,FALSE))","v":""},"",""]
[null,null,null,{"$f":"IF(B130=\"\",\"\",VLOOKUP(B130,Menù!$A$2:$C$1000,2,FALSE))","v":""},"",""]
[null,null,null,{"$f":"IF(B131=\"\",\"\",VLOOKUP(B131,Menù!$A$2:$C$1000,2,FALSE))","v":""},"",""]
[null,null,null,{"$f":"IF(B132=\"\",\"\",VLOOKUP(B132,Menù!$A$2:$C$1000,2,FALSE))","v":""},"",""]
[null,null,null,{"$f":"IF(B133=\"\",\"\",VLOOKUP(B133,Menù!$A$2:$C$1000,2,FALSE))","v":""},"",""]
[null,null,null,{"$f":"IF(B134=\"\",\"\",VLOOKUP(B134,Menù!$A$2:$C$1000,2,FALSE))","v":""},"",""]
[null,null,null,{"$f":"IF(B135=\"\",\"\",VLOOKUP(B135,Menù!$A$2:$C$1000,2,FALSE))","v":""},{"$f":"IF(B135=\"\",\"\",IF(C135=\"\",\"Scrivi la Quantità\",C135*D135))","v":""},{"$f":"IF(B135=\"\",\"\",IF(A135=\"\",\"Manca il tavolo!!!\",\"\"))","v":""}]
[null,null,null,{"$f":"IF(B136=\"\",\"\",VLOOKUP(B136,Menù!$A$2:$C$1000,2,FALSE))","v":""},"",""]
[null,null,null,{"$f":"IF(B137=\"\",\"\",VLOOKUP(B137,Menù!$A$2:$C$1000,2,FALSE))","v":""},"",""]
[null,null,null,{"$f":"IF(B138=\"\",\"\",VLOOKUP(B138,Menù!$A$2:$C$1000,2,FALSE))","v":""},"",""]
[null,null,null,{"$f":"IF(B139=\"\",\"\",VLOOKUP(B139,Menù!$A$2:$C$1000,2,FALSE))","v":""},"",""]
[null,null,null,{"$f":"IF(B140=\"\",\"\",VLOOKUP(B140,Menù!$A$2:$C$1000,2,FALSE))","v":""},"",""]
[null,null,null,{"$f":"IF(B141=\"\",\"\",VLOOKUP(B141,Menù!$A$2:$C$1000,2,FALSE))","v":""},"",""]
[null,null,null,{"$f":"IF(B142=\"\",\"\",VLOOKUP(B142,Menù!$A$2:$C$1000,2,FALSE))","v":""},"",""]
[null,null,null,{"$f":"IF(B143=\"\",\"\",VLOOKUP(B143,Menù!$A$2:$C$1000,2,FALSE))","v":""},"",""]
[null,null,null,{"$f":"IF(B144=\"\",\"\",VLOOKUP(B144,Menù!$A$2:$C$1000,2,FALSE))","v":""},"",""]
[null,null,null,{"$f":"IF(B145=\"\",\"\",VLOOKUP(B145,Menù!$A$2:$C$1000,2,FALSE))","v":""},"",""]
[null,null,null,{"$f":"IF(B146=\"\",\"\",VLOOKUP(B146,Menù!$A$2:$C$1000,2,FALSE))","v":""},"",""]
[null,null,null,{"$f":"IF(B147=\"\",\"\",VLOOKUP(B147,Menù!$A$2:$C$1000,2,FALSE))","v":""},"",""]
[null,null,null,{"$f":"IF(B148=\"\",\"\",VLOOKUP(B148,Menù!$A$2:$C$1000,2,FALSE))","v":""},"",""]
[null,null,null,{"$f":"IF(B149=\"\",\"\",VLOOKUP(B149,Menù!$A$2:$C$1000,2,FALSE))","v":""},"",""]
[null,null,null,{"$f":"IF(B150=\"\",\"\",VLOOKUP(B150,Menù!$A$2:$C$1000,2,FALSE))","v":""},"",""]
[null,null,null,{"$f":"IF(B151=\"\",\"\",VLOOKUP(B151,Menù!$A$2:$C$1000,2,FALSE))","v":""},"",""]
[null,null,null,{"$f":"IF(B152=\"\",\"\",VLOOKUP(B152,Menù!$A$2:$C$1000,2,FALSE))","v":""},"",""]
[null,null,null,{"$f":"IF(B153=\"\",\"\",VLOOKUP(B153,Menù!$A$2:$C$1000,2,FALSE))","v":""},"",""]
[null,null,null,{"$f":"IF(B154=\"\",\"\",VLOOKUP(B154,Menù!$A$2:$C$1000,2,FALSE))","v":""},"",""]
[null,null,null,{"$f":"IF(B155=\"\",\"\",VLOOKUP(B155,Menù!$A$2:$C$1000,2,FALSE))","v":""},"",""]
[null,null,null,{"$f":"IF(B156=\"\",\"\",VLOOKUP(B156,Menù!$A$2:$C$1000,2,FALSE))","v":""},"",""]
[null,null,null,{"$f":"IF(B157=\"\",\"\",VLOOKUP(B157,Menù!$A$2:$C$1000,2,FALSE))","v":""},"",""]
[null,null,null,{"$f":"IF(B158=\"\",\"\",VLOOKUP(B158,Menù!$A$2:$C$1000,2,FALSE))","v":""},"",""]
[null,null,null,{"$f":"IF(B159=\"\",\"\",VLOOKUP(B159,Menù!$A$2:$C$1000,2,FALSE))","v":""},"",""]
[null,null,null,{"$f":"IF(B160=\"\",\"\",VLOOKUP(B160,Menù!$A$2:$C$1000,2,FALSE))","v":""},"",""]
[null,null,null,{"$f":"IF(B161=\"\",\"\",VLOOKUP(B161,Menù!$A$2:$C$1000,2,FALSE))","v":""},"",""]
[null,null,null,{"$f":"IF(B162=\"\",\"\",VLOOKUP(B162,Menù!$A$2:$C$1000,2,FALSE))","v":""},"",""]
[null,null,null,{"$f":"IF(B163=\"\",\"\",VLOOKUP(B163,Menù!$A$2:$C$1000,2,FALSE))","v":""},"",""]
[null,null,null,{"$f":"IF(B164=\"\",\"\",VLOOKUP(B164,Menù!$A$2:$C$1000,2,FALSE))","v":""},"",""]
[null,null,null,{"$f":"IF(B165=\"\",\"\",VLOOKUP(B165,Menù!$A$2:$C$1000,2,FALSE))","v":""},"",""]
[null,null,null,{"$f":"IF(B166=\"\",\"\",VLOOKUP(B166,Menù!$A$2:$C$1000,2,FALSE))","v":""},"",""]
[null,null,null,{"$f":"IF(B167=\"\",\"\",VLOOKUP(B167,Menù!$A$2:$C$1000,2,FALSE))","v":""},"",""]
[null,null,null,{"$f":"IF(B168=\"\",\"\",VLOOKUP(B168,Menù!$A$2:$C$1000,2,FALSE))","v":""},"",""]
[null,null,null,{"$f":"IF(B169=\"\",\"\",VLOOKUP(B169,Menù!$A$2:$C$1000,2,FALSE))","v":""},"",""]
[null,null,null,{"$f":"IF(B170=\"\",\"\",VLOOKUP(B170,Menù!$A$2:$C$1000,2,FALSE))","v":""},"",""]
[null,null,null,{"$f":"IF(B171=\"\",\"\",VLOOKUP(B171,Menù!$A$2:$C$1000,2,FALSE))","v":""},"",""]
[null,null,null,{"$f":"IF(B172=\"\",\"\",VLOOKUP(B172,Menù!$A$2:$C$1000,2,FALSE))","v":""},"",""]
[null,null,null,{"$f":"IF(B173=\"\",\"\",VLOOKUP(B173,Menù!$A$2:$C$1000,2,FALSE))","v":""},"",""]
[null,null,null,{"$f":"IF(B174=\"\",\"\",VLOOKUP(B174,Menù!$A$2:$C$1000,2,FALSE))","v":""},"",""]
[null,null,null,{"$f":"IF(B175=\"\",\"\",VLOOKUP(B175,Menù!$A$2:$C$1000,2,FALSE))","v":""},"",""]
[null,null,null,{"$f":"IF(B176=\"\",\"\",VLOOKUP(B176,Menù!$A$2:$C$1000,2,FALSE))","v":""},"",""]
[null,null,null,{"$f":"IF(B177=\"\",\"\",VLOOKUP(B177,Menù!$A$2:$C$1000,2,FALSE))","v":""},"",""]
[null,null,null,{"$f":"IF(B178=\"\",\"\",VLOOKUP(B178,Menù!$A$2:$C$1000,2,FALSE))","v":""},"",""]
[null,null,null,{"$f":"IF(B179=\"\",\"\",VLOOKUP(B179,Menù!$A$2:$C$1000,2,FALSE))","v":""},"",""]
[null,null,null,{"$f":"IF(B180=\"\",\"\",VLOOKUP(B180,Menù!$A$2:$C$1000,2,FALSE))","v":""},"",""]
[null,null,null,{"$f":"IF(B181=\"\",\"\",VLOOKUP(B181,Menù!$A$2:$C$1000,2,FALSE))","v":""},"",""]
[null,null,null,{"$f":"IF(B182=\"\",\"\",VLOOKUP(B182,Menù!$A$2:$C$1000,2,FALSE))","v":""},"",""]
[null,null,null,{"$f":"IF(B183=\"\",\"\",VLOOKUP(B183,Menù!$A$2:$C$1000,2,FALSE))","v":""},"",""]
[null,null,null,{"$f":"IF(B184=\"\",\"\",VLOOKUP(B184,Menù!$A$2:$C$1000,2,FALSE))","v":""},"",""]
[null,null,null,{"$f":"IF(B185=\"\",\"\",VLOOKUP(B185,Menù!$A$2:$C$1000,2,FALSE))","v":""},"",""]
[null,null,null,{"$f":"IF(B186=\"\",\"\",VLOOKUP(B186,Menù!$A$2:$C$1000,2,FALSE))","v":""},"",""]
[null,null,null,{"$f":"IF(B187=\"\",\"\",VLOOKUP(B187,Menù!$A$2:$C$1000,2,FALSE))","v":""},"",""]
[null,null,null,{"$f":"IF(B188=\"\",\"\",VLOOKUP(B188,Menù!$A$2:$C$1000,2,FALSE))","v":""},"",""]
[null,null,null,{"$f":"IF(B189=\"\",\"\",VLOOKUP(B189,Menù!$A$2:$C$1000,2,FALSE))","v":""},"",""]
[null,null,null,{"$f":"IF(B190=\"\",\"\",VLOOKUP(B190,Menù!$A$2:$C$1000,2,FALSE))","v":""},"",""]
[null,null,null,{"$f":"IF(B191=\"\",\"\",VLOOKUP(B191,Menù!$A$2:$C$1000,2,FALSE))","v":""},"",""]
[null,null,null,{"$f":"IF(B192=\"\",\"\",VLOOKUP(B192,Menù!$A$2:$C$1000,2,FALSE))","v":""},"",""]
[null,null,null,{"$f":"IF(B193=\"\",\"\",VLOOKUP(B193,Menù!$A$2:$C$1000,2,FALSE))","v":""},"",""]
[null,null,null,{"$f":"IF(B194=\"\",\"\",VLOOKUP(B194,Menù!$A$2:$C$1000,2,FALSE))","v":""},"",""]
[null,null,null,{"$f":"IF(B195=\"\",\"\",VLOOKUP(B195,Menù!$A$2:$C$1000,2,FALSE))","v":""},"",""]
[null,null,null,{"$f":"IF(B196=\"\",\"\",VLOOKUP(B196,Menù!$A$2:$C$1000,2,FALSE))","v":""},"",""]
[null,null,null,{"$f":"IF(B197=\"\",\"\",VLOOKUP(B197,Menù!$A$2:$C$1000,2,FALSE))","v":""},"",""]
[null,null,null,{"$f":"IF(B198=\"\",\"\",VLOOKUP(B198,Menù!$A$2:$C$1000,2,FALSE))","v":""},"",""]
[null,null,null,{"$f":"IF(B199=\"\",\"\",VLOOKUP(B199,Menù!$A$2:$C$1000,2,FALSE))","v":""},{"$f":"IF(B199=\"\",\"\",IF(C199=\"\",\"Scrivi la Quantità\",C199*D199))","v":""},{"$f":"IF(B199=\"\",\"\",IF(A199=\"\",\"Manca il tavolo!!!\",\"\"))","v":""}]
[null,null,null,{"$f":"IF(B200=\"\",\"\",VLOOKUP(B200,Menù!$A$2:$C$1000,2,FALSE))","v":""},"",""]
[null,null,null,{"$f":"IF(B201=\"\",\"\",VLOOKUP(B201,Menù!$A$2:$C$1000,2,FALSE))","v":""},"",""]
[null,null,null,{"$f":"IF(B202=\"\",\"\",VLOOKUP(B202,Menù!$A$2:$C$1000,2,FALSE))","v":""},"",""]
[null,null,null,{"$f":"IF(B203=\"\",\"\",VLOOKUP(B203,Menù!$A$2:$C$1000,2,FALSE))","v":""},"",""]
[null,null,null,{"$f":"IF(B204=\"\",\"\",VLOOKUP(B204,Menù!$A$2:$C$1000,2,FALSE))","v":""},"",""]
[null,null,null,{"$f":"IF(B205=\"\",\"\",VLOOKUP(B205,Menù!$A$2:$C$1000,2,FALSE))","v":""},"",""]
[null,null,null,{"$f":"IF(B206=\"\",\"\",VLOOKUP(B206,Menù!$A$2:$C$1000,2,FALSE))","v":""},"",""]
[null,null,null,{"$f":"IF(B207=\"\",\"\",VLOOKUP(B207,Menù!$A$2:$C$1000,2,FALSE))","v":""},"",""]
[null,null,null,{"$f":"IF(B208=\"\",\"\",VLOOKUP(B208,Menù!$A$2:$C$1000,2,FALSE))","v":""},"",""]
[null,null,null,{"$f":"IF(B209=\"\",\"\",VLOOKUP(B209,Menù!$A$2:$C$1000,2,FALSE))","v":""},"",""]
[null,null,null,{"$f":"IF(B210=\"\",\"\",VLOOKUP(B210,Menù!$A$2:$C$1000,2,FALSE))","v":""},"",""]
[null,null,null,{"$f":"IF(B211=\"\",\"\",VLOOKUP(B211,Menù!$A$2:$C$1000,2,FALSE))","v":""},"",""]
[null,null,null,{"$f":"IF(B212=\"\",\"\",VLOOKUP(B212,Menù!$A$2:$C$1000,2,FALSE))","v":""},"",""]
[null,null,null,{"$f":"IF(B213=\"\",\"\",VLOOKUP(B213,Menù!$A$2:$C$1000,2,FALSE))","v":""},"",""]
[null,null,null,{"$f":"IF(B214=\"\",\"\",VLOOKUP(B214,Menù!$A$2:$C$1000,2,FALSE))","v":""},"",""]
[null,null,null,{"$f":"IF(B215=\"\",\"\",VLOOKUP(B215,Menù!$A$2:$C$1000,2,FALSE))","v":""},"",""]
[null,null,null,{"$f":"IF(B216=\"\",\"\",VLOOKUP(B216,Menù!$A$2:$C$1000,2,FALSE))","v":""},"",""]
[null,null,null,{"$f":"IF(B217=\"\",\"\",VLOOKUP(B217,Menù!$A$2:$C$1000,2,FALSE))","v":""},"",""]
[null,null,null,{"$f":"IF(B218=\"\",\"\",VLOOKUP(B218,Menù!$A$2:$C$1000,2,FALSE))","v":""},"",""]
[null,null,null,{"$f":"IF(B219=\"\",\"\",VLOOKUP(B219,Menù!$A$2:$C$1000,2,FALSE))","v":""},"",""]
[null,null,null,{"$f":"IF(B220=\"\",\"\",VLOOKUP(B220,Menù!$A$2:$C$1000,2,FALSE))","v":""},"",""]
[null,null,null,{"$f":"IF(B221=\"\",\"\",VLOOKUP(B221,Menù!$A$2:$C$1000,2,FALSE))","v":""},"",""]
[null,null,null,{"$f":"IF(B222=\"\",\"\",VLOOKUP(B222,Menù!$A$2:$C$1000,2,FALSE))","v":""},"",""]
[null,null,null,{"$f":"IF(B223=\"\",\"\",VLOOKUP(B223,Menù!$A$2:$C$1000,2,FALSE))","v":""},"",""]
[null,null,null,{"$f":"IF(B224=\"\",\"\",VLOOKUP(B224,Menù!$A$2:$C$1000,2,FALSE))","v":""},"",""]
[null,null,null,{"$f":"IF(B225=\"\",\"\",VLOOKUP(B225,Menù!$A$2:$C$1000,2,FALSE))","v":""},"",""]
[null,null,null,{"$f":"IF(B226=\"\",\"\",VLOOKUP(B226,Menù!$A$2:$C$1000,2,FALSE))","v":""},"",""]
[null,null,null,{"$f":"IF(B227=\"\",\"\",VLOOKUP(B227,Menù!$A$2:$C$1000,2,FALSE))","v":""},"",""]
[null,null,null,{"$f":"IF(B228=\"\",\"\",VLOOKUP(B228,Menù!$A$2:$C$1000,2,FALSE))","v":""},"",""]
[null,null,null,{"$f":"IF(B229=\"\",\"\",VLOOKUP(B229,Menù!$A$2:$C$1000,2,FALSE))","v":""},"",""]
[null,null,null,{"$f":"IF(B230=\"\",\"\",VLOOKUP(B230,Menù!$A$2:$C$1000,2,FALSE))","v":""},"",""]
[null,null,null,{"$f":"IF(B231=\"\",\"\",VLOOKUP(B231,Menù!$A$2:$C$1000,2,FALSE))","v":""},"",""]
[null,null,null,{"$f":"IF(B232=\"\",\"\",VLOOKUP(B232,Menù!$A$2:$C$1000,2,FALSE))","v":""},"",""]
[null,null,null,{"$f":"IF(B233=\"\",\"\",VLOOKUP(B233,Menù!$A$2:$C$1000,2,FALSE))","v":""},"",""]
[null,null,null,{"$f":"IF(B234=\"\",\"\",VLOOKUP(B234,Menù!$A$2:$C$1000,2,FALSE))","v":""},"",""]
[null,null,null,{"$f":"IF(B235=\"\",\"\",VLOOKUP(B235,Menù!$A$2:$C$1000,2,FALSE))","v":""},"",""]
[null,null,null,{"$f":"IF(B236=\"\",\"\",VLOOKUP(B236,Menù!$A$2:$C$1000,2,FALSE))","v":""},"",""]
[null,null,null,{"$f":"IF(B237=\"\",\"\",VLOOKUP(B237,Menù!$A$2:$C$1000,2,FALSE))","v":""},"",""]
[null,null,null,{"$f":"IF(B238=\"\",\"\",VLOOKUP(B238,Menù!$A$2:$C$1000,2,FALSE))","v":""},"",""]
[null,null,null,{"$f":"IF(B239=\"\",\"\",VLOOKUP(B239,Menù!$A$2:$C$1000,2,FALSE))","v":""},"",""]
[null,null,null,{"$f":"IF(B240=\"\",\"\",VLOOKUP(B240,Menù!$A$2:$C$1000,2,FALSE))","v":""},"",""]
[null,null,null,{"$f":"IF(B241=\"\",\"\",VLOOKUP(B241,Menù!$A$2:$C$1000,2,FALSE))","v":""},"",""]
[null,null,null,{"$f":"IF(B242=\"\",\"\",VLOOKUP(B242,Menù!$A$2:$C$1000,2,FALSE))","v":""},"",""]
[null,null,null,{"$f":"IF(B243=\"\",\"\",VLOOKUP(B243,Menù!$A$2:$C$1000,2,FALSE))","v":""},"",""]
[null,null,null,{"$f":"IF(B244=\"\",\"\",VLOOKUP(B244,Menù!$A$2:$C$1000,2,FALSE))","v":""},"",""]
[null,null,null,{"$f":"IF(B245=\"\",\"\",VLOOKUP(B245,Menù!$A$2:$C$1000,2,FALSE))","v":""},"",""]
[null,null,null,{"$f":"IF(B246=\"\",\"\",VLOOKUP(B246,Menù!$A$2:$C$1000,2,FALSE))","v":""},"",""]
[null,null,null,{"$f":"IF(B247=\"\",\"\",VLOOKUP(B247,Menù!$A$2:$C$1000,2,FALSE))","v":""},"",""]
[null,null,null,{"$f":"IF(B248=\"\",\"\",VLOOKUP(B248,Menù!$A$2:$C$1000,2,FALSE))","v":""},"",""]
[null,null,null,{"$f":"IF(B249=\"\",\"\",VLOOKUP(B249,Menù!$A$2:$C$1000,2,FALSE))","v":""},"",""]
[null,null,null,{"$f":"IF(B250=\"\",\"\",VLOOKUP(B250,Menù!$A$2:$C$1000,2,FALSE))","v":""},"",""]
[null,null,null,{"$f":"IF(B251=\"\",\"\",VLOOKUP(B251,Menù!$A$2:$C$1000,2,FALSE))","v":""},"",""]
[null,null,null,{"$f":"IF(B252=\"\",\"\",VLOOKUP(B252,Menù!$A$2:$C$1000,2,FALSE))","v":""},"",""]
[null,null,null,{"$f":"IF(B253=\"\",\"\",VLOOKUP(B253,Menù!$A$2:$C$1000,2,FALSE))","v":""},"",""]
[null,null,null,{"$f":"IF(B254=\"\",\"\",VLOOKUP(B254,Menù!$A$2:$C$1000,2,FALSE))","v":""},"",""]
[null,null,null,{"$f":"IF(B255=\"\",\"\",VLOOKUP(B255,Menù!$A$2:$C$1000,2,FALSE))","v":""},"",""]
[null,null,null,{"$f":"IF(B256=\"\",\"\",VLOOKUP(B256,Menù!$A$2:$C$1000,2,FALSE))","v":""},"",""]
[null,null,null,{"$f":"IF(B257=\"\",\"\",VLOOKUP(B257,Menù!$A$2:$C$1000,2,FALSE))","v":""},"",""]
[null,null,null,{"$f":"IF(B258=\"\",\"\",VLOOKUP(B258,Menù!$A$2:$C$1000,2,FALSE))","v":""},"",""]
[null,null,null,{"$f":"IF(B259=\"\",\"\",VLOOKUP(B259,Menù!$A$2:$C$1000,2,FALSE))","v":""},"",""]
[null,null,null,{"$f":"IF(B260=\"\",\"\",VLOOKUP(B260,Menù!$A$2:$C$1000,2,FALSE))","v":""},"",""]
[null,null,null,{"$f":"IF(B261=\"\",\"\",VLOOKUP(B261,Menù!$A$2:$C$1000,2,FALSE))","v":""},"",""]
[null,null,null,{"$f":"IF(B262=\"\",\"\",VLOOKUP(B262,Menù!$A$2:$C$1000,2,FALSE))","v":""},"",""]
[null,null,null,{"$f":"IF(B263=\"\",\"\",VLOOKUP(B263,Menù!$A$2:$C$1000,2,FALSE))","v":""},{"$f":"IF(B263=\"\",\"\",IF(C263=\"\",\"Scrivi la Quantità\",C263*D263))","v":""},{"$f":"IF(B263=\"\",\"\",IF(A263=\"\",\"Manca il tavolo!!!\",\"\"))","v":""}]
[null,null,null,{"$f":"IF(B264=\"\",\"\",VLOOKUP(B264,Menù!$A$2:$C$1000,2,FALSE))","v":""},"",""]
[null,null,null,{"$f":"IF(B265=\"\",\"\",VLOOKUP(B265,Menù!$A$2:$C$1000,2,FALSE))","v":""},"",""]
[null,null,null,{"$f":"IF(B266=\"\",\"\",VLOOKUP(B266,Menù!$A$2:$C$1000,2,FALSE))","v":""},"",""]
[null,null,null,{"$f":"IF(B267=\"\",\"\",VLOOKUP(B267,Menù!$A$2:$C$1000,2,FALSE))","v":""},"",""]
[null,null,null,{"$f":"IF(B268=\"\",\"\",VLOOKUP(B268,Menù!$A$2:$C$1000,2,FALSE))","v":""},"",""]
[null,null,null,{"$f":"IF(B269=\"\",\"\",VLOOKUP(B269,Menù!$A$2:$C$1000,2,FALSE))","v":""},"",""]
[null,null,null,{"$f":"IF(B270=\"\",\"\",VLOOKUP(B270,Menù!$A$2:$C$1000,2,FALSE))","v":""},"",""]
[null,null,null,{"$f":"IF(B271=\"\",\"\",VLOOKUP(B271,Menù!$A$2:$C$1000,2,FALSE))","v":""},"",""]
[null,null,null,{"$f":"IF(B272=\"\",\"\",VLOOKUP(B272,Menù!$A$2:$C$1000,2,FALSE))","v":""},"",""]
[null,null,null,{"$f":"IF(B273=\"\",\"\",VLOOKUP(B273,Menù!$A$2:$C$1000,2,FALSE))","v":""},"",""]
[null,null,null,{"$f":"IF(B274=\"\",\"\",VLOOKUP(B274,Menù!$A$2:$C$1000,2,FALSE))","v":""},"",""]
[null,null,null,{"$f":"IF(B275=\"\",\"\",VLOOKUP(B275,Menù!$A$2:$C$1000,2,FALSE))","v":""},"",""]
[null,null,null,{"$f":"IF(B276=\"\",\"\",VLOOKUP(B276,Menù!$A$2:$C$1000,2,FALSE))","v":""},"",""]
[null,null,null,{"$f":"IF(B277=\"\",\"\",VLOOKUP(B277,Menù!$A$2:$C$1000,2,FALSE))","v":""},"",""]
[null,null,null,{"$f":"IF(B278=\"\",\"\",VLOOKUP(B278,Menù!$A$2:$C$1000,2,FALSE))","v":""},"",""]
[null,null,null,{"$f":"IF(B279=\"\",\"\",VLOOKUP(B279,Menù!$A$2:$C$1000,2,FALSE))","v":""},"",""]
[null,null,null,{"$f":"IF(B280=\"\",\"\",VLOOKUP(B280,Menù!$A$2:$C$1000,2,FALSE))","v":""},"",""]
[null,null,null,{"$f":"IF(B281=\"\",\"\",VLOOKUP(B281,Menù!$A$2:$C$1000,2,FALSE))","v":""},"",""]
[null,null,null,{"$f":"IF(B282=\"\",\"\",VLOOKUP(B282,Menù!$A$2:$C$1000,2,FALSE))","v":""},"",""]
[null,null,null,{"$f":"IF(B283=\"\",\"\",VLOOKUP(B283,Menù!$A$2:$C$1000,2,FALSE))","v":""},"",""]
[null,null,null,{"$f":"IF(B284=\"\",\"\",VLOOKUP(B284,Menù!$A$2:$C$1000,2,FALSE))","v":""},"",""]
[null,null,null,{"$f":"IF(B285=\"\",\"\",VLOOKUP(B285,Menù!$A$2:$C$1000,2,FALSE))","v":""},"",""]
[null,null,null,{"$f":"IF(B286=\"\",\"\",VLOOKUP(B286,Menù!$A$2:$C$1000,2,FALSE))","v":""},"",""]
[null,null,null,{"$f":"IF(B287=\"\",\"\",VLOOKUP(B287,Menù!$A$2:$C$1000,2,FALSE))","v":""},"",""]
[null,null,null,{"$f":"IF(B288=\"\",\"\",VLOOKUP(B288,Menù!$A$2:$C$1000,2,FALSE))","v":""},"",""]
[null,null,null,{"$f":"IF(B289=\"\",\"\",VLOOKUP(B289,Menù!$A$2:$C$1000,2,FALSE))","v":""},"",""]
[null,null,null,{"$f":"IF(B290=\"\",\"\",VLOOKUP(B290,Menù!$A$2:$C$1000,2,FALSE))","v":""},"",""]
[null,null,null,{"$f":"IF(B291=\"\",\"\",VLOOKUP(B291,Menù!$A$2:$C$1000,2,FALSE))","v":""},"",""]
[null,null,null,{"$f":"IF(B292=\"\",\"\",VLOOKUP(B292,Menù!$A$2:$C$1000,2,FALSE))","v":""},"",""]
[null,null,null,{"$f":"IF(B293=\"\",\"\",VLOOKUP(B293,Menù!$A$2:$C$1000,2,FALSE))","v":""},"",""]
[null,null,null,{"$f":"IF(B294=\"\",\"\",VLOOKUP(B294,Menù!$A$2:$C$1000,2,FALSE))","v":""},"",""]
[null,null,null,{"$f":"IF(B295=\"\",\"\",VLOOKUP(B295,Menù!$A$2:$C$1000,2,FALSE))","v":""},"",""]
[null,null,null,{"$f":"IF(B296=\"\",\"\",VLOOKUP(B296,Menù!$A$2:$C$1000,2,FALSE))","v":""},"",""]
[null,null,null,{"$f":"IF(B297=\"\",\"\",VLOOKUP(B297,Menù!$A$2:$C$1000,2,FALSE))","v":""},"",""]
[null,null,null,{"$f":"IF(B298=\"\",\"\",VLOOKUP(B298,Menù!$A$2:$C$1000,2,FALSE))","v":""},"",""]
[null,null,null,{"$f":"IF(B299=\"\",\"\",VLOOKUP(B299,Menù!$A$2:$C$1000,2,FALSE))","v":""},"",""]
[null,null,null,{"$f":"IF(B300=\"\",\"\",VLOOKUP(B300,Menù!$A$2:$C$1000,2,FALSE))","v":""},"",""]
[null,null,null,{"$f":"IF(B301=\"\",\"\",VLOOKUP(B301,Menù!$A$2:$C$1000,2,FALSE))","v":""},"",""]
[null,null,null,{"$f":"IF(B302=\"\",\"\",VLOOKUP(B302,Menù!$A$2:$C$1000,2,FALSE))","v":""},"",""]
[null,null,null,{"$f":"IF(B303=\"\",\"\",VLOOKUP(B303,Menù!$A$2:$C$1000,2,FALSE))","v":""},"",""]
[null,null,null,{"$f":"IF(B304=\"\",\"\",VLOOKUP(B304,Menù!$A$2:$C$1000,2,FALSE))","v":""},"",""]
[null,null,null,{"$f":"IF(B305=\"\",\"\",VLOOKUP(B305,Menù!$A$2:$C$1000,2,FALSE))","v":""},"",""]
[null,null,null,{"$f":"IF(B306=\"\",\"\",VLOOKUP(B306,Menù!$A$2:$C$1000,2,FALSE))","v":""},"",""]
[null,null,null,{"$f":"IF(B307=\"\",\"\",VLOOKUP(B307,Menù!$A$2:$C$1000,2,FALSE))","v":""},"",""]
[null,null,null,{"$f":"IF(B308=\"\",\"\",VLOOKUP(B308,Menù!$A$2:$C$1000,2,FALSE))","v":""},"",""]
[null,null,null,{"$f":"IF(B309=\"\",\"\",VLOOKUP(B309,Menù!$A$2:$C$1000,2,FALSE))","v":""},"",""]
[null,null,null,{"$f":"IF(B310=\"\",\"\",VLOOKUP(B310,Menù!$A$2:$C$1000,2,FALSE))","v":""},"",""]
[null,null,null,{"$f":"IF(B311=\"\",\"\",VLOOKUP(B311,Menù!$A$2:$C$1000,2,FALSE))","v":""},"",""]
[null,null,null,{"$f":"IF(B312=\"\",\"\",VLOOKUP(B312,Menù!$A$2:$C$1000,2,FALSE))","v":""},"",""]
[null,null,null,{"$f":"IF(B313=\"\",\"\",VLOOKUP(B313,Menù!$A$2:$C$1000,2,FALSE))","v":""},"",""]
[null,null,null,{"$f":"IF(B314=\"\",\"\",VLOOKUP(B314,Menù!$A$2:$C$1000,2,FALSE))","v":""},"",""]
[null,null,null,{"$f":"IF(B315=\"\",\"\",VLOOKUP(B315,Menù!$A$2:$C$1000,2,FALSE))","v":""},"",""]
[null,null,null,{"$f":"IF(B316=\"\",\"\",VLOOKUP(B316,Menù!$A$2:$C$1000,2,FALSE))","v":""},"",""]
[null,null,null,{"$f":"IF(B317=\"\",\"\",VLOOKUP(B317,Menù!$A$2:$C$1000,2,FALSE))","v":""},"",""]
[null,null,null,{"$f":"IF(B318=\"\",\"\",VLOOKUP(B318,Menù!$A$2:$C$1000,2,FALSE))","v":""},"",""]
[null,null,null,{"$f":"IF(B319=\"\",\"\",VLOOKUP(B319,Menù!$A$2:$C$1000,2,FALSE))","v":""},"",""]
[null,null,null,{"$f":"IF(B320=\"\",\"\",VLOOKUP(B320,Menù!$A$2:$C$1000,2,FALSE))","v":""},"",""]
[null,null,null,{"$f":"IF(B321=\"\",\"\",VLOOKUP(B321,Menù!$A$2:$C$1000,2,FALSE))","v":""},"",""]
[null,null,null,{"$f":"IF(B322=\"\",\"\",VLOOKUP(B322,Menù!$A$2:$C$1000,2,FALSE))","v":""},"",""]
[null,null,null,{"$f":"IF(B323=\"\",\"\",VLOOKUP(B323,Menù!$A$2:$C$1000,2,FALSE))","v":""},"",""]
[null,null,null,{"$f":"IF(B324=\"\",\"\",VLOOKUP(B324,Menù!$A$2:$C$1000,2,FALSE))","v":""},"",""]
[null,null,null,{"$f":"IF(B325=\"\",\"\",VLOOKUP(B325,Menù!$A$2:$C$1000,2,FALSE))","v":""},"",""]
[null,null,null,{"$f":"IF(B326=\"\",\"\",VLOOKUP(B326,Menù!$A$2:$C$1000,2,FALSE))","v":""},"",""]
[null,null,null,{"$f":"IF(B327=\"\",\"\",VLOOKUP(B327,Menù!$A$2:$C$1000,2,FALSE))","v":""},{"$f":"IF(B327=\"\",\"\",IF(C327=\"\",\"Scrivi la Quantità\",C327*D327))","v":""},{"$f":"IF(B327=\"\",\"\",IF(A327=\"\",\"Manca il tavolo!!!\",\"\"))","v":""}]
[null,null,null,{"$f":"IF(B328=\"\",\"\",VLOOKUP(B328,Menù!$A$2:$C$1000,2,FALSE))","v":""},"",""]
[null,null,null,{"$f":"IF(B329=\"\",\"\",VLOOKUP(B329,Menù!$A$2:$C$1000,2,FALSE))","v":""},"",""]
[null,null,null,{"$f":"IF(B330=\"\",\"\",VLOOKUP(B330,Menù!$A$2:$C$1000,2,FALSE))","v":""},"",""]
[null,null,null,{"$f":"IF(B331=\"\",\"\",VLOOKUP(B331,Menù!$A$2:$C$1000,2,FALSE))","v":""},"",""]
[null,null,null,{"$f":"IF(B332=\"\",\"\",VLOOKUP(B332,Menù!$A$2:$C$1000,2,FALSE))","v":""},"",""]
[null,null,null,{"$f":"IF(B333=\"\",\"\",VLOOKUP(B333,Menù!$A$2:$C$1000,2,FALSE))","v":""},"",""]
[null,null,null,{"$f":"IF(B334=\"\",\"\",VLOOKUP(B334,Menù!$A$2:$C$1000,2,FALSE))","v":""},"",""]
[null,null,null,{"$f":"IF(B335=\"\",\"\",VLOOKUP(B335,Menù!$A$2:$C$1000,2,FALSE))","v":""},"",""]
[null,null,null,{"$f":"IF(B336=\"\",\"\",VLOOKUP(B336,Menù!$A$2:$C$1000,2,FALSE))","v":""},"",""]
[null,null,null,{"$f":"IF(B337=\"\",\"\",VLOOKUP(B337,Menù!$A$2:$C$1000,2,FALSE))","v":""},"",""]
[null,null,null,{"$f":"IF(B338=\"\",\"\",VLOOKUP(B338,Menù!$A$2:$C$1000,2,FALSE))","v":""},"",""]
[null,null,null,{"$f":"IF(B339=\"\",\"\",VLOOKUP(B339,Menù!$A$2:$C$1000,2,FALSE))","v":""},"",""]
[null,null,null,{"$f":"IF(B340=\"\",\"\",VLOOKUP(B340,Menù!$A$2:$C$1000,2,FALSE))","v":""},"",""]
[null,null,null,{"$f":"IF(B341=\"\",\"\",VLOOKUP(B341,Menù!$A$2:$C$1000,2,FALSE))","v":""},"",""]
[null,null,null,{"$f":"IF(B342=\"\",\"\",VLOOKUP(B342,Menù!$A$2:$C$1000,2,FALSE))","v":""},"",""]
[null,null,null,{"$f":"IF(B343=\"\",\"\",VLOOKUP(B343,Menù!$A$2:$C$1000,2,FALSE))","v":""},"",""]
[null,null,null,{"$f":"IF(B344=\"\",\"\",VLOOKUP(B344,Menù!$A$2:$C$1000,2,FALSE))","v":""},"",""]
[null,null,null,{"$f":"IF(B345=\"\",\"\",VLOOKUP(B345,Menù!$A$2:$C$1000,2,FALSE))","v":""},"",""]
[null,null,null,{"$f":"IF(B346=\"\",\"\",VLOOKUP(B346,Menù!$A$2:$C$1000,2,FALSE))","v":""},"",""]
[null,null,null,{"$f":"IF(B347=\"\",\"\",VLOOKUP(B347,Menù!$A$2:$C$1000,2,FALSE))","v":""},"",""]
[null,null,null,{"$f":"IF(B348=\"\",\"\",VLOOKUP(B348,Menù!$A$2:$C$1000,2,FALSE))","v":""},"",""]
[null,null,null,{"$f":"IF(B349=\"\",\"\",VLOOKUP(B349,Menù!$A$2:$C$1000,2,FALSE))","v":""},"",""]
[null,null,null,{"$f":"IF(B350=\"\",\"\",VLOOKUP(B350,Menù!$A$2:$C$1000,2,FALSE))","v":""},"",""]
[null,null,null,{"$f":"IF(B351=\"\",\"\",VLOOKUP(B351,Menù!$A$2:$C$1000,2,FALSE))","v":""},"",""]
[null,null,null,{"$f":"IF(B352=\"\",\"\",VLOOKUP(B352,Menù!$A$2:$C$1000,2,FALSE))","v":""},"",""]
[null,null,null,{"$f":"IF(B353=\"\",\"\",VLOOKUP(B353,Menù!$A$2:$C$1000,2,FALSE))","v":""},"",""]
[null,null,null,{"$f":"IF(B354=\"\",\"\",VLOOKUP(B354,Menù!$A$2:$C$1000,2,FALSE))","v":""},"",""]
[null,null,null,{"$f":"IF(B355=\"\",\"\",VLOOKUP(B355,Menù!$A$2:$C$1000,2,FALSE))","v":""},"",""]
[null,null,null,{"$f":"IF(B356=\"\",\"\",VLOOKUP(B356,Menù!$A$2:$C$1000,2,FALSE))","v":""},"",""]
[null,null,null,{"$f":"IF(B357=\"\",\"\",VLOOKUP(B357,Menù!$A$2:$C$1000,2,FALSE))","v":""},"",""]
[null,null,null,{"$f":"IF(B358=\"\",\"\",VLOOKUP(B358,Menù!$A$2:$C$1000,2,FALSE))","v":""},"",""]
[null,null,null,{"$f":"IF(B359=\"\",\"\",VLOOKUP(B359,Menù!$A$2:$C$1000,2,FALSE))","v":""},"",""]
[null,null,null,{"$f":"IF(B360=\"\",\"\",VLOOKUP(B360,Menù!$A$2:$C$1000,2,FALSE))","v":""},"",""]
[null,null,null,{"$f":"IF(B361=\"\",\"\",VLOOKUP(B361,Menù!$A$2:$C$1000,2,FALSE))","v":""},"",""]
[null,null,null,{"$f":"IF(B362=\"\",\"\",VLOOKUP(B362,Menù!$A$2:$C$1000,2,FALSE))","v":""},"",""]
[null,null,null,{"$f":"IF(B363=\"\",\"\",VLOOKUP(B363,Menù!$A$2:$C$1000,2,FALSE))","v":""},"",""]
[null,null,null,{"$f":"IF(B364=\"\",\"\",VLOOKUP(B364,Menù!$A$2:$C$1000,2,FALSE))","v":""},"",""]
[null,null,null,{"$f":"IF(B365=\"\",\"\",VLOOKUP(B365,Menù!$A$2:$C$1000,2,FALSE))","v":""},"",""]
[null,null,null,{"$f":"IF(B366=\"\",\"\",VLOOKUP(B366,Menù!$A$2:$C$1000,2,FALSE))","v":""},"",""]
[null,null,null,{"$f":"IF(B367=\"\",\"\",VLOOKUP(B367,Menù!$A$2:$C$1000,2,FALSE))","v":""},"",""]
[null,null,null,{"$f":"IF(B368=\"\",\"\",VLOOKUP(B368,Menù!$A$2:$C$1000,2,FALSE))","v":""},"",""]
[null,null,null,{"$f":"IF(B369=\"\",\"\",VLOOKUP(B369,Menù!$A$2:$C$1000,2,FALSE))","v":""},"",""]
[null,null,null,{"$f":"IF(B370=\"\",\"\",VLOOKUP(B370,Menù!$A$2:$C$1000,2,FALSE))","v":""},"",""]
[null,null,null,{"$f":"IF(B371=\"\",\"\",VLOOKUP(B371,Menù!$A$2:$C$1000,2,FALSE))","v":""},"",""]
[null,null,null,{"$f":"IF(B372=\"\",\"\",VLOOKUP(B372,Menù!$A$2:$C$1000,2,FALSE))","v":""},"",""]
[null,null,null,{"$f":"IF(B373=\"\",\"\",VLOOKUP(B373,Menù!$A$2:$C$1000,2,FALSE))","v":""},"",""]
[null,null,null,{"$f":"IF(B374=\"\",\"\",VLOOKUP(B374,Menù!$A$2:$C$1000,2,FALSE))","v":""},"",""]
[null,null,null,{"$f":"IF(B375=\"\",\"\",VLOOKUP(B375,Menù!$A$2:$C$1000,2,FALSE))","v":""},"",""]
[null,null,null,{"$f":"IF(B376=\"\",\"\",VLOOKUP(B376,Menù!$A$2:$C$1000,2,FALSE))","v":""},"",""]
[null,null,null,{"$f":"IF(B377=\"\",\"\",VLOOKUP(B377,Menù!$A$2:$C$1000,2,FALSE))","v":""},"",""]
[null,null,null,{"$f":"IF(B378=\"\",\"\",VLOOKUP(B378,Menù!$A$2:$C$1000,2,FALSE))","v":""},"",""]
[null,null,null,{"$f":"IF(B379=\"\",\"\",VLOOKUP(B379,Menù!$A$2:$C$1000,2,FALSE))","v":""},"",""]
[null,null,null,{"$f":"IF(B380=\"\",\"\",VLOOKUP(B380,Menù!$A$2:$C$1000,2,FALSE))","v":""},"",""]
[null,null,null,{"$f":"IF(B381=\"\",\"\",VLOOKUP(B381,Menù!$A$2:$C$1000,2,FALSE))","v":""},"",""]
[null,null,null,{"$f":"IF(B382=\"\",\"\",VLOOKUP(B382,Menù!$A$2:$C$1000,2,FALSE))","v":""},"",""]
[null,null,null,{"$f":"IF(B383=\"\",\"\",VLOOKUP(B383,Menù!$A$2:$C$1000,2,FALSE))","v":""},"",""]
[null,null,null,{"$f":"IF(B384=\"\",\"\",VLOOKUP(B384,Menù!$A$2:$C$1000,2,FALSE))","v":""},"",""]
[null,null,null,{"$f":"IF(B385=\"\",\"\",VLOOKUP(B385,Menù!$A$2:$C$1000,2,FALSE))","v":""},"",""]
[null,null,null,{"$f":"IF(B386=\"\",\"\",VLOOKUP(B386,Menù!$A$2:$C$1000,2,FALSE))","v":""},"",""]
[null,null,null,{"$f":"IF(B387=\"\",\"\",VLOOKUP(B387,Menù!$A$2:$C$1000,2,FALSE))","v":""},"",""]
[null,null,null,{"$f":"IF(B388=\"\",\"\",VLOOKUP(B388,Menù!$A$2:$C$1000,2,FALSE))","v":""},"",""]
[null,null,null,{"$f":"IF(B389=\"\",\"\",VLOOKUP(B389,Menù!$A$2:$C$1000,2,FALSE))","v":""},"",""]
[null,null,null,{"$f":"IF(B390=\"\",\"\",VLOOKUP(B390,Menù!$A$2:$C$1000,2,FALSE))","v":""},"",""]
[null,null,null,{"$f":"IF(B391=\"\",\"\",VLOOKUP(B391,Menù!$A$2:$C$1000,2,FALSE))","v":""},{"$f":"IF(B391=\"\",\"\",IF(C391=\"\",\"Scrivi la Quantità\",C391*D391))","v":""},{"$f":"IF(B391=\"\",\"\",IF(A391=\"\",\"Manca il tavolo!!!\",\"\"))","v":""}]
[null,null,null,{"$f":"IF(B392=\"\",\"\",VLOOKUP(B392,Menù!$A$2:$C$1000,2,FALSE))","v":""},"",""]
[null,null,null,{"$f":"IF(B393=\"\",\"\",VLOOKUP(B393,Menù!$A$2:$C$1000,2,FALSE))","v":""},"",""]
[null,null,null,{"$f":"IF(B394=\"\",\"\",VLOOKUP(B394,Menù!$A$2:$C$1000,2,FALSE))","v":""},"",""]
[null,null,null,{"$f":"IF(B395=\"\",\"\",VLOOKUP(B395,Menù!$A$2:$C$1000,2,FALSE))","v":""},"",""]
[null,null,null,{"$f":"IF(B396=\"\",\"\",VLOOKUP(B396,Menù!$A$2:$C$1000,2,FALSE))","v":""},"",""]
[null,null,null,{"$f":"IF(B397=\"\",\"\",VLOOKUP(B397,Menù!$A$2:$C$1000,2,FALSE))","v":""},"",""]
[null,null,null,{"$f":"IF(B398=\"\",\"\",VLOOKUP(B398,Menù!$A$2:$C$1000,2,FALSE))","v":""},"",""]
[null,null,null,{"$f":"IF(B399=\"\",\"\",VLOOKUP(B399,Menù!$A$2:$C$1000,2,FALSE))","v":""},"",""]
[null,null,null,{"$f":"IF(B400=\"\",\"\",VLOOKUP(B400,Menù!$A$2:$C$1000,2,FALSE))","v":""},"",""]
[null,null,null,{"$f":"IF(B401=\"\",\"\",VLOOKUP(B401,Menù!$A$2:$C$1000,2,FALSE))","v":""},"",""]
[null,null,null,{"$f":"IF(B402=\"\",\"\",VLOOKUP(B402,Menù!$A$2:$C$1000,2,FALSE))","v":""},"",""]
[null,null,null,{"$f":"IF(B403=\"\",\"\",VLOOKUP(B403,Menù!$A$2:$C$1000,2,FALSE))","v":""},"",""]
[null,null,null,{"$f":"IF(B404=\"\",\"\",VLOOKUP(B404,Menù!$A$2:$C$1000,2,FALSE))","v":""},"",""]
[null,null,null,{"$f":"IF(B405=\"\",\"\",VLOOKUP(B405,Menù!$A$2:$C$1000,2,FALSE))","v":""},"",""]
[null,null,null,{"$f":"IF(B406=\"\",\"\",VLOOKUP(B406,Menù!$A$2:$C$1000,2,FALSE))","v":""},"",""]
[null,null,null,{"$f":"IF(B407=\"\",\"\",VLOOKUP(B407,Menù!$A$2:$C$1000,2,FALSE))","v":""},"",""]
[null,null,null,{"$f":"IF(B408=\"\",\"\",VLOOKUP(B408,Menù!$A$2:$C$1000,2,FALSE))","v":""},"",""]
[null,null,null,{"$f":"IF(B409=\"\",\"\",VLOOKUP(B409,Menù!$A$2:$C$1000,2,FALSE))","v":""},"",""]
[null,null,null,{"$f":"IF(B410=\"\",\"\",VLOOKUP(B410,Menù!$A$2:$C$1000,2,FALSE))","v":""},"",""]
[null,null,null,{"$f":"IF(B411=\"\",\"\",VLOOKUP(B411,Menù!$A$2:$C$1000,2,FALSE))","v":""},"",""]
[null,null,null,{"$f":"IF(B412=\"\",\"\",VLOOKUP(B412,Menù!$A$2:$C$1000,2,FALSE))","v":""},"",""]
[null,null,null,{"$f":"IF(B413=\"\",\"\",VLOOKUP(B413,Menù!$A$2:$C$1000,2,FALSE))","v":""},"",""]
[null,null,null,{"$f":"IF(B414=\"\",\"\",VLOOKUP(B414,Menù!$A$2:$C$1000,2,FALSE))","v":""},"",""]
[null,null,null,{"$f":"IF(B415=\"\",\"\",VLOOKUP(B415,Menù!$A$2:$C$1000,2,FALSE))","v":""},"",""]
[null,null,null,{"$f":"IF(B416=\"\",\"\",VLOOKUP(B416,Menù!$A$2:$C$1000,2,FALSE))","v":""},"",""]
[null,null,null,{"$f":"IF(B417=\"\",\"\",VLOOKUP(B417,Menù!$A$2:$C$1000,2,FALSE))","v":""},"",""]
[null,null,null,{"$f":"IF(B418=\"\",\"\",VLOOKUP(B418,Menù!$A$2:$C$1000,2,FALSE))","v":""},"",""]
[null,null,null,{"$f":"IF(B419=\"\",\"\",VLOOKUP(B419,Menù!$A$2:$C$1000,2,FALSE))","v":""},"",""]
[null,null,null,{"$f":"IF(B420=\"\",\"\",VLOOKUP(B420,Menù!$A$2:$C$1000,2,FALSE))","v":""},"",""]
[null,null,null,{"$f":"IF(B421=\"\",\"\",VLOOKUP(B421,Menù!$A$2:$C$1000,2,FALSE))","v":""},"",""]
[null,null,null,{"$f":"IF(B422=\"\",\"\",VLOOKUP(B422,Menù!$A$2:$C$1000,2,FALSE))","v":""},"",""]
[null,null,null,{"$f":"IF(B423=\"\",\"\",VLOOKUP(B423,Menù!$A$2:$C$1000,2,FALSE))","v":""},"",""]
[null,null,null,{"$f":"IF(B424=\"\",\"\",VLOOKUP(B424,Menù!$A$2:$C$1000,2,FALSE))","v":""},"",""]
[null,null,null,{"$f":"IF(B425=\"\",\"\",VLOOKUP(B425,Menù!$A$2:$C$1000,2,FALSE))","v":""},"",""]
[null,null,null,{"$f":"IF(B426=\"\",\"\",VLOOKUP(B426,Menù!$A$2:$C$1000,2,FALSE))","v":""},"",""]
[null,null,null,{"$f":"IF(B427=\"\",\"\",VLOOKUP(B427,Menù!$A$2:$C$1000,2,FALSE))","v":""},"",""]
[null,null,null,{"$f":"IF(B428=\"\",\"\",VLOOKUP(B428,Menù!$A$2:$C$1000,2,FALSE))","v":""},"",""]
[null,null,null,{"$f":"IF(B429=\"\",\"\",VLOOKUP(B429,Menù!$A$2:$C$1000,2,FALSE))","v":""},"",""]
[null,null,null,{"$f":"IF(B430=\"\",\"\",VLOOKUP(B430,Menù!$A$2:$C$1000,2,FALSE))","v":""},"",""]
[null,null,null,{"$f":"IF(B431=\"\",\"\",VLOOKUP(B431,Menù!$A$2:$C$1000,2,FALSE))","v":""},"",""]
[null,null,null,{"$f":"IF(B432=\"\",\"\",VLOOKUP(B432,Menù!$A$2:$C$1000,2,FALSE))","v":""},"",""]
[null,null,null,{"$f":"IF(B433=\"\",\"\",VLOOKUP(B433,Menù!$A$2:$C$1000,2,FALSE))","v":""},"",""]
[null,null,null,{"$f":"IF(B434=\"\",\"\",VLOOKUP(B434,Menù!$A$2:$C$1000,2,FALSE))","v":""},"",""]
[null,null,null,{"$f":"IF(B435=\"\",\"\",VLOOKUP(B435,Menù!$A$2:$C$1000,2,FALSE))","v":""},"",""]
[null,null,null,{"$f":"IF(B436=\"\",\"\",VLOOKUP(B436,Menù!$A$2:$C$1000,2,FALSE))","v":""},"",""]
[null,null,null,{"$f":"IF(B437=\"\",\"\",VLOOKUP(B437,Menù!$A$2:$C$1000,2,FALSE))","v":""},"",""]
[null,null,null,{"$f":"IF(B438=\"\",\"\",VLOOKUP(B438,Menù!$A$2:$C$1000,2,FALSE))","v":""},"",""]
[null,null,null,{"$f":"IF(B439=\"\",\"\",VLOOKUP(B439,Menù!$A$2:$C$1000,2,FALSE))","v":""},"",""]
[null,null,null,{"$f":"IF(B440=\"\",\"\",VLOOKUP(B440,Menù!$A$2:$C$1000,2,FALSE))","v":""},"",""]
[null,null,null,{"$f":"IF(B441=\"\",\"\",VLOOKUP(B441,Menù!$A$2:$C$1000,2,FALSE))","v":""},"",""]
[null,null,null,{"$f":"IF(B442=\"\",\"\",VLOOKUP(B442,Menù!$A$2:$C$1000,2,FALSE))","v":""},"",""]
[null,null,null,{"$f":"IF(B443=\"\",\"\",VLOOKUP(B443,Menù!$A$2:$C$1000,2,FALSE))","v":""},"",""]
[null,null,null,{"$f":"IF(B444=\"\",\"\",VLOOKUP(B444,Menù!$A$2:$C$1000,2,FALSE))","v":""},"",""]
[null,null,null,{"$f":"IF(B445=\"\",\"\",VLOOKUP(B445,Menù!$A$2:$C$1000,2,FALSE))","v":""},"",""]
[null,null,null,{"$f":"IF(B446=\"\",\"\",VLOOKUP(B446,Menù!$A$2:$C$1000,2,FALSE))","v":""},"",""]
[null,null,null,{"$f":"IF(B447=\"\",\"\",VLOOKUP(B447,Menù!$A$2:$C$1000,2,FALSE))","v":""},"",""]
[null,null,null,{"$f":"IF(B448=\"\",\"\",VLOOKUP(B448,Menù!$A$2:$C$1000,2,FALSE))","v":""},"",""]
[null,null,null,{"$f":"IF(B449=\"\",\"\",VLOOKUP(B449,Menù!$A$2:$C$1000,2,FALSE))","v":""},"",""]
[null,null,null,{"$f":"IF(B450=\"\",\"\",VLOOKUP(B450,Menù!$A$2:$C$1000,2,FALSE))","v":""},"",""]
[null,null,null,{"$f":"IF(B451=\"\",\"\",VLOOKUP(B451,Menù!$A$2:$C$1000,2,FALSE))","v":""},"",""]
[null,null,null,{"$f":"IF(B452=\"\",\"\",VLOOKUP(B452,Menù!$A$2:$C$1000,2,FALSE))","v":""},"",""]
[null,null,null,{"$f":"IF(B453=\"\",\"\",VLOOKUP(B453,Menù!$A$2:$C$1000,2,FALSE))","v":""},"",""]
[null,null,null,{"$f":"IF(B454=\"\",\"\",VLOOKUP(B454,Menù!$A$2:$C$1000,2,FALSE))","v":""},"",""]
[null,null,null,{"$f":"IF(B455=\"\",\"\",VLOOKUP(B455,Menù!$A$2:$C$1000,2,FALSE))","v":""},{"$f":"IF(B455=\"\",\"\",IF(C455=\"\",\"Scrivi la Quantità\",C455*D455))","v":""},{"$f":"IF(B455=\"\",\"\",IF(A455=\"\",\"Manca il tavolo!!!\",\"\"))","v":""}]
[null,null,null,{"$f":"IF(B456=\"\",\"\",VLOOKUP(B456,Menù!$A$2:$C$1000,2,FALSE))","v":""},"",""]
[null,null,null,{"$f":"IF(B457=\"\",\"\",VLOOKUP(B457,Menù!$A$2:$C$1000,2,FALSE))","v":""},"",""]
[null,null,null,{"$f":"IF(B458=\"\",\"\",VLOOKUP(B458,Menù!$A$2:$C$1000,2,FALSE))","v":""},"",""]
[null,null,null,{"$f":"IF(B459=\"\",\"\",VLOOKUP(B459,Menù!$A$2:$C$1000,2,FALSE))","v":""},"",""]
[null,null,null,{"$f":"IF(B460=\"\",\"\",VLOOKUP(B460,Menù!$A$2:$C$1000,2,FALSE))","v":""},"",""]
[null,null,null,{"$f":"IF(B461=\"\",\"\",VLOOKUP(B461,Menù!$A$2:$C$1000,2,FALSE))","v":""},"",""]
[null,null,null,{"$f":"IF(B462=\"\",\"\",VLOOKUP(B462,Menù!$A$2:$C$1000,2,FALSE))","v":""},"",""]
[null,null,null,{"$f":"IF(B463=\"\",\"\",VLOOKUP(B463,Menù!$A$2:$C$1000,2,FALSE))","v":""},"",""]
[null,null,null,{"$f":"IF(B464=\"\",\"\",VLOOKUP(B464,Menù!$A$2:$C$1000,2,FALSE))","v":""},"",""]
[null,null,null,{"$f":"IF(B465=\"\",\"\",VLOOKUP(B465,Menù!$A$2:$C$1000,2,FALSE))","v":""},"",""]
[null,null,null,{"$f":"IF(B466=\"\",\"\",VLOOKUP(B466,Menù!$A$2:$C$1000,2,FALSE))","v":""},"",""]
[null,null,null,{"$f":"IF(B467=\"\",\"\",VLOOKUP(B467,Menù!$A$2:$C$1000,2,FALSE))","v":""},"",""]
[null,null,null,{"$f":"IF(B468=\"\",\"\",VLOOKUP(B468,Menù!$A$2:$C$1000,2,FALSE))","v":""},"",""]
[null,null,null,{"$f":"IF(B469=\"\",\"\",VLOOKUP(B469,Menù!$A$2:$C$1000,2,FALSE))","v":""},"",""]
[null,null,null,{"$f":"IF(B470=\"\",\"\",VLOOKUP(B470,Menù!$A$2:$C$1000,2,FALSE))","v":""},"",""]
[null,null,null,{"$f":"IF(B471=\"\",\"\",VLOOKUP(B471,Menù!$A$2:$C$1000,2,FALSE))","v":""},"",""]
[null,null,null,{"$f":"IF(B472=\"\",\"\",VLOOKUP(B472,Menù!$A$2:$C$1000,2,FALSE))","v":""},"",""]
[null,null,null,{"$f":"IF(B473=\"\",\"\",VLOOKUP(B473,Menù!$A$2:$C$1000,2,FALSE))","v":""},"",""]
[null,null,null,{"$f":"IF(B474=\"\",\"\",VLOOKUP(B474,Menù!$A$2:$C$1000,2,FALSE))","v":""},"",""]
[null,null,null,{"$f":"IF(B475=\"\",\"\",VLOOKUP(B475,Menù!$A$2:$C$1000,2,FALSE))","v":""},"",""]
[null,null,null,{"$f":"IF(B476=\"\",\"\",VLOOKUP(B476,Menù!$A$2:$C$1000,2,FALSE))","v":""},"",""]
[null,null,null,{"$f":"IF(B477=\"\",\"\",VLOOKUP(B477,Menù!$A$2:$C$1000,2,FALSE))","v":""},"",""]
[null,null,null,{"$f":"IF(B478=\"\",\"\",VLOOKUP(B478,Menù!$A$2:$C$1000,2,FALSE))","v":""},"",""]
[null,null,null,{"$f":"IF(B479=\"\",\"\",VLOOKUP(B479,Menù!$A$2:$C$1000,2,FALSE))","v":""},"",""]
[null,null,null,{"$f":"IF(B480=\"\",\"\",VLOOKUP(B480,Menù!$A$2:$C$1000,2,FALSE))","v":""},"",""]
[null,null,null,{"$f":"IF(B481=\"\",\"\",VLOOKUP(B481,Menù!$A$2:$C$1000,2,FALSE))","v":""},"",""]
[null,null,null,{"$f":"IF(B482=\"\",\"\",VLOOKUP(B482,Menù!$A$2:$C$1000,2,FALSE))","v":""},"",""]
[null,null,null,{"$f":"IF(B483=\"\",\"\",VLOOKUP(B483,Menù!$A$2:$C$1000,2,FALSE))","v":""},"",""]
[null,null,null,{"$f":"IF(B484=\"\",\"\",VLOOKUP(B484,Menù!$A$2:$C$1000,2,FALSE))","v":""},"",""]
[null,null,null,{"$f":"IF(B485=\"\",\"\",VLOOKUP(B485,Menù!$A$2:$C$1000,2,FALSE))","v":""},"",""]
[null,null,null,{"$f":"IF(B486=\"\",\"\",VLOOKUP(B486,Menù!$A$2:$C$1000,2,FALSE))","v":""},"",""]
[null,null,null,{"$f":"IF(B487=\"\",\"\",VLOOKUP(B487,Menù!$A$2:$C$1000,2,FALSE))","v":""},"",""]
[null,null,null,{"$f":"IF(B488=\"\",\"\",VLOOKUP(B488,Menù!$A$2:$C$1000,2,FALSE))","v":""},"",""]
[null,null,null,{"$f":"IF(B489=\"\",\"\",VLOOKUP(B489,Menù!$A$2:$C$1000,2,FALSE))","v":""},"",""]
[null,null,null,{"$f":"IF(B490=\"\",\"\",VLOOKUP(B490,Menù!$A$2:$C$1000,2,FALSE))","v":""},"",""]
[null,null,null,{"$f":"IF(B491=\"\",\"\",VLOOKUP(B491,Menù!$A$2:$C$1000,2,FALSE))","v":""},"",""]
[null,null,null,{"$f":"IF(B492=\"\",\"\",VLOOKUP(B492,Menù!$A$2:$C$1000,2,FALSE))","v":""},"",""]
[null,null,null,{"$f":"IF(B493=\"\",\"\",VLOOKUP(B493,Menù!$A$2:$C$1000,2,FALSE))","v":""},"",""]
[null,null,null,{"$f":"IF(B494=\"\",\"\",VLOOKUP(B494,Menù!$A$2:$C$1000,2,FALSE))","v":""},"",""]
[null,null,null,{"$f":"IF(B495=\"\",\"\",VLOOKUP(B495,Menù!$A$2:$C$1000,2,FALSE))","v":""},"",""]
[null,null,null,{"$f":"IF(B496=\"\",\"\",VLOOKUP(B496,Menù!$A$2:$C$1000,2,FALSE))","v":""},"",""]
[null,null,null,{"$f":"IF(B497=\"\",\"\",VLOOKUP(B497,Menù!$A$2:$C$1000,2,FALSE))","v":""},"",""]
[null,null,null,{"$f":"IF(B498=\"\",\"\",VLOOKUP(B498,Menù!$A$2:$C$1000,2,FALSE))","v":""},"",""]
[null,null,null,{"$f":"IF(B499=\"\",\"\",VLOOKUP(B499,Menù!$A$2:$C$1000,2,FALSE))","v":""},"",""]
[null,null,null,{"$f":"IF(B500=\"\",\"\",VLOOKUP(B500,Menù!$A$2:$C$1000,2,FALSE))","v":""},"",""]
[null,null,null,{"$f":"IF(B501=\"\",\"\",VLOOKUP(B501,Menù!$A$2:$C$1000,2,FALSE))","v":""},"",""]
[null,null,null,{"$f":"IF(B502=\"\",\"\",VLOOKUP(B502,Menù!$A$2:$C$1000,2,FALSE))","v":""},"",""]
[null,null,null,{"$f":"IF(B503=\"\",\"\",VLOOKUP(B503,Menù!$A$2:$C$1000,2,FALSE))","v":""},"",""]
[null,null,null,{"$f":"IF(B504=\"\",\"\",VLOOKUP(B504,Menù!$A$2:$C$1000,2,FALSE))","v":""},"",""]
[null,null,null,{"$f":"IF(B505=\"\",\"\",VLOOKUP(B505,Menù!$A$2:$C$1000,2,FALSE))","v":""},"",""]
[null,null,null,{"$f":"IF(B506=\"\",\"\",VLOOKUP(B506,Menù!$A$2:$C$1000,2,FALSE))","v":""},"",""]
[null,null,null,{"$f":"IF(B507=\"\",\"\",VLOOKUP(B507,Menù!$A$2:$C$1000,2,FALSE))","v":""},"",""]
[null,null,null,{"$f":"IF(B508=\"\",\"\",VLOOKUP(B508,Menù!$A$2:$C$1000,2,FALSE))","v":""},"",""]
[null,null,null,{"$f":"IF(B509=\"\",\"\",VLOOKUP(B509,Menù!$A$2:$C$1000,2,FALSE))","v":""},"",""]
[null,null,null,{"$f":"IF(B510=\"\",\"\",VLOOKUP(B510,Menù!$A$2:$C$1000,2,FALSE))","v":""},"",""]
[null,null,null,{"$f":"IF(B511=\"\",\"\",VLOOKUP(B511,Menù!$A$2:$C$1000,2,FALSE))","v":""},"",""]
[null,null,null,{"$f":"IF(B512=\"\",\"\",VLOOKUP(B512,Menù!$A$2:$C$1000,2,FALSE))","v":""},"",""]
[null,null,null,{"$f":"IF(B513=\"\",\"\",VLOOKUP(B513,Menù!$A$2:$C$1000,2,FALSE))","v":""},"",""]
[null,null,null,{"$f":"IF(B514=\"\",\"\",VLOOKUP(B514,Menù!$A$2:$C$1000,2,FALSE))","v":""},"",""]
[null,null,null,{"$f":"IF(B515=\"\",\"\",VLOOKUP(B515,Menù!$A$2:$C$1000,2,FALSE))","v":""},"",""]
[null,null,null,{"$f":"IF(B516=\"\",\"\",VLOOKUP(B516,Menù!$A$2:$C$1000,2,FALSE))","v":""},"",""]
[null,null,null,{"$f":"IF(B517=\"\",\"\",VLOOKUP(B517,Menù!$A$2:$C$1000,2,FALSE))","v":""},"",""]
[null,null,null,{"$f":"IF(B518=\"\",\"\",VLOOKUP(B518,Menù!$A$2:$C$1000,2,FALSE))","v":""},"",""]
[null,null,null,{"$f":"IF(B519=\"\",\"\",VLOOKUP(B519,Menù!$A$2:$C$1000,2,FALSE))","v":""},{"$f":"IF(B519=\"\",\"\",IF(C519=\"\",\"Scrivi la Quantità\",C519*D519))","v":""},{"$f":"IF(B519=\"\",\"\",IF(A519=\"\",\"Manca il tavolo!!!\",\"\"))","v":""}]
[null,null,null,{"$f":"IF(B520=\"\",\"\",VLOOKUP(B520,Menù!$A$2:$C$1000,2,FALSE))","v":""},"",""]
[null,null,null,{"$f":"IF(B521=\"\",\"\",VLOOKUP(B521,Menù!$A$2:$C$1000,2,FALSE))","v":""},"",""]
[null,null,null,{"$f":"IF(B522=\"\",\"\",VLOOKUP(B522,Menù!$A$2:$C$1000,2,FALSE))","v":""},"",""]
[null,null,null,{"$f":"IF(B523=\"\",\"\",VLOOKUP(B523,Menù!$A$2:$C$1000,2,FALSE))","v":""},"",""]
[null,null,null,{"$f":"IF(B524=\"\",\"\",VLOOKUP(B524,Menù!$A$2:$C$1000,2,FALSE))","v":""},"",""]
[null,null,null,{"$f":"IF(B525=\"\",\"\",VLOOKUP(B525,Menù!$A$2:$C$1000,2,FALSE))","v":""},"",""]
[null,null,null,{"$f":"IF(B526=\"\",\"\",VLOOKUP(B526,Menù!$A$2:$C$1000,2,FALSE))","v":""},"",""]
[null,null,null,{"$f":"IF(B527=\"\",\"\",VLOOKUP(B527,Menù!$A$2:$C$1000,2,FALSE))","v":""},"",""]
[null,null,null,{"$f":"IF(B528=\"\",\"\",VLOOKUP(B528,Menù!$A$2:$C$1000,2,FALSE))","v":""},"",""]
[null,null,null,{"$f":"IF(B529=\"\",\"\",VLOOKUP(B529,Menù!$A$2:$C$1000,2,FALSE))","v":""},"",""]
[null,null,null,{"$f":"IF(B530=\"\",\"\",VLOOKUP(B530,Menù!$A$2:$C$1000,2,FALSE))","v":""},"",""]
[null,null,null,{"$f":"IF(B531=\"\",\"\",VLOOKUP(B531,Menù!$A$2:$C$1000,2,FALSE))","v":""},"",""]
[null,null,null,{"$f":"IF(B532=\"\",\"\",VLOOKUP(B532,Menù!$A$2:$C$1000,2,FALSE))","v":""},"",""]
[null,null,null,{"$f":"IF(B533=\"\",\"\",VLOOKUP(B533,Menù!$A$2:$C$1000,2,FALSE))","v":""},"",""]
[null,null,null,{"$f":"IF(B534=\"\",\"\",VLOOKUP(B534,Menù!$A$2:$C$1000,2,FALSE))","v":""},"",""]
[null,null,null,{"$f":"IF(B535=\"\",\"\",VLOOKUP(B535,Menù!$A$2:$C$1000,2,FALSE))","v":""},"",""]
[null,null,null,{"$f":"IF(B536=\"\",\"\",VLOOKUP(B536,Menù!$A$2:$C$1000,2,FALSE))","v":""},"",""]
[null,null,null,{"$f":"IF(B537=\"\",\"\",VLOOKUP(B537,Menù!$A$2:$C$1000,2,FALSE))","v":""},"",""]
[null,null,null,{"$f":"IF(B538=\"\",\"\",VLOOKUP(B538,Menù!$A$2:$C$1000,2,FALSE))","v":""},"",""]
[null,null,null,{"$f":"IF(B539=\"\",\"\",VLOOKUP(B539,Menù!$A$2:$C$1000,2,FALSE))","v":""},"",""]
[null,null,null,{"$f":"IF(B540=\"\",\"\",VLOOKUP(B540,Menù!$A$2:$C$1000,2,FALSE))","v":""},"",""]
[null,null,null,{"$f":"IF(B541=\"\",\"\",VLOOKUP(B541,Menù!$A$2:$C$1000,2,FALSE))","v":""},"",""]
[null,null,null,{"$f":"IF(B542=\"\",\"\",VLOOKUP(B542,Menù!$A$2:$C$1000,2,FALSE))","v":""},"",""]
[null,null,null,{"$f":"IF(B543=\"\",\"\",VLOOKUP(B543,Menù!$A$2:$C$1000,2,FALSE))","v":""},"",""]
[null,null,null,{"$f":"IF(B544=\"\",\"\",VLOOKUP(B544,Menù!$A$2:$C$1000,2,FALSE))","v":""},"",""]
[null,null,null,{"$f":"IF(B545=\"\",\"\",VLOOKUP(B545,Menù!$A$2:$C$1000,2,FALSE))","v":""},"",""]
[null,null,null,{"$f":"IF(B546=\"\",\"\",VLOOKUP(B546,Menù!$A$2:$C$1000,2,FALSE))","v":""},"",""]
[null,null,null,{"$f":"IF(B547=\"\",\"\",VLOOKUP(B547,Menù!$A$2:$C$1000,2,FALSE))","v":""},"",""]
[null,null,null,{"$f":"IF(B548=\"\",\"\",VLOOKUP(B548,Menù!$A$2:$C$1000,2,FALSE))","v":""},"",""]
[null,null,null,{"$f":"IF(B549=\"\",\"\",VLOOKUP(B549,Menù!$A$2:$C$1000,2,FALSE))","v":""},"",""]
[null,null,null,{"$f":"IF(B550=\"\",\"\",VLOOKUP(B550,Menù!$A$2:$C$1000,2,FALSE))","v":""},"",""]
[null,null,null,{"$f":"IF(B551=\"\",\"\",VLOOKUP(B551,Menù!$A$2:$C$1000,2,FALSE))","v":""},"",""]
[null,null,null,{"$f":"IF(B552=\"\",\"\",VLOOKUP(B552,Menù!$A$2:$C$1000,2,FALSE))","v":""},"",""]
[null,null,null,{"$f":"IF(B553=\"\",\"\",VLOOKUP(B553,Menù!$A$2:$C$1000,2,FALSE))","v":""},"",""]
[null,null,null,{"$f":"IF(B554=\"\",\"\",VLOOKUP(B554,Menù!$A$2:$C$1000,2,FALSE))","v":""},"",""]
[null,null,null,{"$f":"IF(B555=\"\",\"\",VLOOKUP(B555,Menù!$A$2:$C$1000,2,FALSE))","v":""},"",""]
[null,null,null,{"$f":"IF(B556=\"\",\"\",VLOOKUP(B556,Menù!$A$2:$C$1000,2,FALSE))","v":""},"",""]
[null,null,null,{"$f":"IF(B557=\"\",\"\",VLOOKUP(B557,Menù!$A$2:$C$1000,2,FALSE))","v":""},"",""]
[null,null,null,{"$f":"IF(B558=\"\",\"\",VLOOKUP(B558,Menù!$A$2:$C$1000,2,FALSE))","v":""},"",""]
[null,null,null,{"$f":"IF(B559=\"\",\"\",VLOOKUP(B559,Menù!$A$2:$C$1000,2,FALSE))","v":""},"",""]
[null,null,null,{"$f":"IF(B560=\"\",\"\",VLOOKUP(B560,Menù!$A$2:$C$1000,2,FALSE))","v":""},"",""]
[null,null,null,{"$f":"IF(B561=\"\",\"\",VLOOKUP(B561,Menù!$A$2:$C$1000,2,FALSE))","v":""},"",""]
[null,null,null,{"$f":"IF(B562=\"\",\"\",VLOOKUP(B562,Menù!$A$2:$C$1000,2,FALSE))","v":""},"",""]
[null,null,null,{"$f":"IF(B563=\"\",\"\",VLOOKUP(B563,Menù!$A$2:$C$1000,2,FALSE))","v":""},"",""]
[null,null,null,{"$f":"IF(B564=\"\",\"\",VLOOKUP(B564,Menù!$A$2:$C$1000,2,FALSE))","v":""},"",""]
[null,null,null,{"$f":"IF(B565=\"\",\"\",VLOOKUP(B565,Menù!$A$2:$C$1000,2,FALSE))","v":""},"",""]
[null,null,null,{"$f":"IF(B566=\"\",\"\",VLOOKUP(B566,Menù!$A$2:$C$1000,2,FALSE))","v":""},"",""]
[null,null,null,{"$f":"IF(B567=\"\",\"\",VLOOKUP(B567,Menù!$A$2:$C$1000,2,FALSE))","v":""},"",""]
[null,null,null,{"$f":"IF(B568=\"\",\"\",VLOOKUP(B568,Menù!$A$2:$C$1000,2,FALSE))","v":""},"",""]
[null,null,null,{"$f":"IF(B569=\"\",\"\",VLOOKUP(B569,Menù!$A$2:$C$1000,2,FALSE))","v":""},"",""]
[null,null,null,{"$f":"IF(B570=\"\",\"\",VLOOKUP(B570,Menù!$A$2:$C$1000,2,FALSE))","v":""},"",""]
[null,null,null,{"$f":"IF(B571=\"\",\"\",VLOOKUP(B571,Menù!$A$2:$C$1000,2,FALSE))","v":""},"",""]
[null,null,null,{"$f":"IF(B572=\"\",\"\",VLOOKUP(B572,Menù!$A$2:$C$1000,2,FALSE))","v":""},"",""]
[null,null,null,{"$f":"IF(B573=\"\",\"\",VLOOKUP(B573,Menù!$A$2:$C$1000,2,FALSE))","v":""},"",""]
[null,null,null,{"$f":"IF(B574=\"\",\"\",VLOOKUP(B574,Menù!$A$2:$C$1000,2,FALSE))","v":""},"",""]
[null,null,null,{"$f":"IF(B575=\"\",\"\",VLOOKUP(B575,Menù!$A$2:$C$1000,2,FALSE))","v":""},"",""]
[null,null,null,{"$f":"IF(B576=\"\",\"\",VLOOKUP(B576,Menù!$A$2:$C$1000,2,FALSE))","v":""},"",""]
[null,null,null,{"$f":"IF(B577=\"\",\"\",VLOOKUP(B577,Menù!$A$2:$C$1000,2,FALSE))","v":""},"",""]
[null,null,null,{"$f":"IF(B578=\"\",\"\",VLOOKUP(B578,Menù!$A$2:$C$1000,2,FALSE))","v":""},"",""]
[null,null,null,{"$f":"IF(B579=\"\",\"\",VLOOKUP(B579,Menù!$A$2:$C$1000,2,FALSE))","v":""},"",""]
[null,null,null,{"$f":"IF(B580=\"\",\"\",VLOOKUP(B580,Menù!$A$2:$C$1000,2,FALSE))","v":""},"",""]
[null,null,null,{"$f":"IF(B581=\"\",\"\",VLOOKUP(B581,Menù!$A$2:$C$1000,2,FALSE))","v":""},"",""]
[null,null,null,{"$f":"IF(B582=\"\",\"\",VLOOKUP(B582,Menù!$A$2:$C$1000,2,FALSE))","v":""},"",""]
[null,null,null,{"$f":"IF(B583=\"\",\"\",VLOOKUP(B583,Menù!$A$2:$C$1000,2,FALSE))","v":""},{"$f":"IF(B583=\"\",\"\",IF(C583=\"\",\"Scrivi la Quantità\",C583*D583))","v":""},{"$f":"IF(B583=\"\",\"\",IF(A583=\"\",\"Manca il tavolo!!!\",\"\"))","v":""}]
[null,null,null,{"$f":"IF(B584=\"\",\"\",VLOOKUP(B584,Menù!$A$2:$C$1000,2,FALSE))","v":""},"",""]
[null,null,null,{"$f":"IF(B585=\"\",\"\",VLOOKUP(B585,Menù!$A$2:$C$1000,2,FALSE))","v":""},"",""]
[null,null,null,{"$f":"IF(B586=\"\",\"\",VLOOKUP(B586,Menù!$A$2:$C$1000,2,FALSE))","v":""},"",""]
[null,null,null,{"$f":"IF(B587=\"\",\"\",VLOOKUP(B587,Menù!$A$2:$C$1000,2,FALSE))","v":""},"",""]
[null,null,null,{"$f":"IF(B588=\"\",\"\",VLOOKUP(B588,Menù!$A$2:$C$1000,2,FALSE))","v":""},"",""]
[null,null,null,{"$f":"IF(B589=\"\",\"\",VLOOKUP(B589,Menù!$A$2:$C$1000,2,FALSE))","v":""},"",""]
[null,null,null,{"$f":"IF(B590=\"\",\"\",VLOOKUP(B590,Menù!$A$2:$C$1000,2,FALSE))","v":""},"",""]
[null,null,null,{"$f":"IF(B591=\"\",\"\",VLOOKUP(B591,Menù!$A$2:$C$1000,2,FALSE))","v":""},"",""]
[null,null,null,{"$f":"IF(B592=\"\",\"\",VLOOKUP(B592,Menù!$A$2:$C$1000,2,FALSE))","v":""},"",""]
[null,null,null,{"$f":"IF(B593=\"\",\"\",VLOOKUP(B593,Menù!$A$2:$C$1000,2,FALSE))","v":""},"",""]
[null,null,null,{"$f":"IF(B594=\"\",\"\",VLOOKUP(B594,Menù!$A$2:$C$1000,2,FALSE))","v":""},"",""]
[null,null,null,{"$f":"IF(B595=\"\",\"\",VLOOKUP(B595,Menù!$A$2:$C$1000,2,FALSE))","v":""},"",""]
[null,null,null,{"$f":"IF(B596=\"\",\"\",VLOOKUP(B596,Menù!$A$2:$C$1000,2,FALSE))","v":""},"",""]
[null,null,null,{"$f":"IF(B597=\"\",\"\",VLOOKUP(B597,Menù!$A$2:$C$1000,2,FALSE))","v":""},"",""]
[null,null,null,{"$f":"IF(B598=\"\",\"\",VLOOKUP(B598,Menù!$A$2:$C$1000,2,FALSE))","v":""},"",""]
[null,null,null,{"$f":"IF(B599=\"\",\"\",VLOOKUP(B599,Menù!$A$2:$C$1000,2,FALSE))","v":""},"",""]
[null,null,null,{"$f":"IF(B600=\"\",\"\",VLOOKUP(B600,Menù!$A$2:$C$1000,2,FALSE))","v":""},"",""]
[null,null,null,{"$f":"IF(B601=\"\",\"\",VLOOKUP(B601,Menù!$A$2:$C$1000,2,FALSE))","v":""},"",""]
[null,null,null,{"$f":"IF(B602=\"\",\"\",VLOOKUP(B602,Menù!$A$2:$C$1000,2,FALSE))","v":""},"",""]
[null,null,null,{"$f":"IF(B603=\"\",\"\",VLOOKUP(B603,Menù!$A$2:$C$1000,2,FALSE))","v":""},"",""]
[null,null,null,{"$f":"IF(B604=\"\",\"\",VLOOKUP(B604,Menù!$A$2:$C$1000,2,FALSE))","v":""},"",""]
[null,null,null,{"$f":"IF(B605=\"\",\"\",VLOOKUP(B605,Menù!$A$2:$C$1000,2,FALSE))","v":""},"",""]
[null,null,null,{"$f":"IF(B606=\"\",\"\",VLOOKUP(B606,Menù!$A$2:$C$1000,2,FALSE))","v":""},"",""]
[null,null,null,{"$f":"IF(B607=\"\",\"\",VLOOKUP(B607,Menù!$A$2:$C$1000,2,FALSE))","v":""},"",""]
[null,null,null,{"$f":"IF(B608=\"\",\"\",VLOOKUP(B608,Menù!$A$2:$C$1000,2,FALSE))","v":""},"",""]
[null,null,null,{"$f":"IF(B609=\"\",\"\",VLOOKUP(B609,Menù!$A$2:$C$1000,2,FALSE))","v":""},"",""]
[null,null,null,{"$f":"IF(B610=\"\",\"\",VLOOKUP(B610,Menù!$A$2:$C$1000,2,FALSE))","v":""},"",""]
[null,null,null,{"$f":"IF(B611=\"\",\"\",VLOOKUP(B611,Menù!$A$2:$C$1000,2,FALSE))","v":""},"",""]
[null,null,null,{"$f":"IF(B612=\"\",\"\",VLOOKUP(B612,Menù!$A$2:$C$1000,2,FALSE))","v":""},"",""]
[null,null,null,{"$f":"IF(B613=\"\",\"\",VLOOKUP(B613,Menù!$A$2:$C$1000,2,FALSE))","v":""},"",""]
[null,null,null,{"$f":"IF(B614=\"\",\"\",VLOOKUP(B614,Menù!$A$2:$C$1000,2,FALSE))","v":""},"",""]
[null,null,null,{"$f":"IF(B615=\"\",\"\",VLOOKUP(B615,Menù!$A$2:$C$1000,2,FALSE))","v":""},"",""]
[null,null,null,{"$f":"IF(B616=\"\",\"\",VLOOKUP(B616,Menù!$A$2:$C$1000,2,FALSE))","v":""},"",""]
[null,null,null,{"$f":"IF(B617=\"\",\"\",VLOOKUP(B617,Menù!$A$2:$C$1000,2,FALSE))","v":""},"",""]
[null,null,null,{"$f":"IF(B618=\"\",\"\",VLOOKUP(B618,Menù!$A$2:$C$1000,2,FALSE))","v":""},"",""]
[null,null,null,{"$f":"IF(B619=\"\",\"\",VLOOKUP(B619,Menù!$A$2:$C$1000,2,FALSE))","v":""},"",""]
[null,null,null,{"$f":"IF(B620=\"\",\"\",VLOOKUP(B620,Menù!$A$2:$C$1000,2,FALSE))","v":""},"",""]
[null,null,null,{"$f":"IF(B621=\"\",\"\",VLOOKUP(B621,Menù!$A$2:$C$1000,2,FALSE))","v":""},"",""]
[null,null,null,{"$f":"IF(B622=\"\",\"\",VLOOKUP(B622,Menù!$A$2:$C$1000,2,FALSE))","v":""},"",""]
[null,null,null,{"$f":"IF(B623=\"\",\"\",VLOOKUP(B623,Menù!$A$2:$C$1000,2,FALSE))","v":""},"",""]
[null,null,null,{"$f":"IF(B624=\"\",\"\",VLOOKUP(B624,Menù!$A$2:$C$1000,2,FALSE))","v":""},"",""]
[null,null,null,{"$f":"IF(B625=\"\",\"\",VLOOKUP(B625,Menù!$A$2:$C$1000,2,FALSE))","v":""},"",""]
[null,null,null,{"$f":"IF(B626=\"\",\"\",VLOOKUP(B626,Menù!$A$2:$C$1000,2,FALSE))","v":""},"",""]
[null,null,null,{"$f":"IF(B627=\"\",\"\",VLOOKUP(B627,Menù!$A$2:$C$1000,2,FALSE))","v":""},"",""]
[null,null,null,{"$f":"IF(B628=\"\",\"\",VLOOKUP(B628,Menù!$A$2:$C$1000,2,FALSE))","v":""},"",""]
[null,null,null,{"$f":"IF(B629=\"\",\"\",VLOOKUP(B629,Menù!$A$2:$C$1000,2,FALSE))","v":""},"",""]
[null,null,null,{"$f":"IF(B630=\"\",\"\",VLOOKUP(B630,Menù!$A$2:$C$1000,2,FALSE))","v":""},"",""]
[null,null,null,{"$f":"IF(B631=\"\",\"\",VLOOKUP(B631,Menù!$A$2:$C$1000,2,FALSE))","v":""},"",""]
[null,null,null,{"$f":"IF(B632=\"\",\"\",VLOOKUP(B632,Menù!$A$2:$C$1000,2,FALSE))","v":""},"",""]
[null,null,null,{"$f":"IF(B633=\"\",\"\",VLOOKUP(B633,Menù!$A$2:$C$1000,2,FALSE))","v":""},"",""]
[null,null,null,{"$f":"IF(B634=\"\",\"\",VLOOKUP(B634,Menù!$A$2:$C$1000,2,FALSE))","v":""},"",""]
[null,null,null,{"$f":"IF(B635=\"\",\"\",VLOOKUP(B635,Menù!$A$2:$C$1000,2,FALSE))","v":""},"",""]
[null,null,null,{"$f":"IF(B636=\"\",\"\",VLOOKUP(B636,Menù!$A$2:$C$1000,2,FALSE))","v":""},"",""]
[null,null,null,{"$f":"IF(B637=\"\",\"\",VLOOKUP(B637,Menù!$A$2:$C$1000,2,FALSE))","v":""},"",""]
[null,null,null,{"$f":"IF(B638=\"\",\"\",VLOOKUP(B638,Menù!$A$2:$C$1000,2,FALSE))","v":""},"",""]
[null,null,null,{"$f":"IF(B639=\"\",\"\",VLOOKUP(B639,Menù!$A$2:$C$1000,2,FALSE))","v":""},"",""]
[null,null,null,{"$f":"IF(B640=\"\",\"\",VLOOKUP(B640,Menù!$A$2:$C$1000,2,FALSE))","v":""},"",""]
[null,null,null,{"$f":"IF(B641=\"\",\"\",VLOOKUP(B641,Menù!$A$2:$C$1000,2,FALSE))","v":""},"",""]
[null,null,null,{"$f":"IF(B642=\"\",\"\",VLOOKUP(B642,Menù!$A$2:$C$1000,2,FALSE))","v":""},"",""]
[null,null,null,{"$f":"IF(B643=\"\",\"\",VLOOKUP(B643,Menù!$A$2:$C$1000,2,FALSE))","v":""},"",""]
[null,null,null,{"$f":"IF(B644=\"\",\"\",VLOOKUP(B644,Menù!$A$2:$C$1000,2,FALSE))","v":""},"",""]
[null,null,null,{"$f":"IF(B645=\"\",\"\",VLOOKUP(B645,Menù!$A$2:$C$1000,2,FALSE))","v":""},"",""]
[null,null,null,{"$f":"IF(B646=\"\",\"\",VLOOKUP(B646,Menù!$A$2:$C$1000,2,FALSE))","v":""},"",""]
[null,null,null,{"$f":"IF(B647=\"\",\"\",VLOOKUP(B647,Menù!$A$2:$C$1000,2,FALSE))","v":""},{"$f":"IF(B647=\"\",\"\",IF(C647=\"\",\"Scrivi la Quantità\",C647*D647))","v":""},{"$f":"IF(B647=\"\",\"\",IF(A647=\"\",\"Manca il tavolo!!!\",\"\"))","v":""}]
[null,null,null,{"$f":"IF(B648=\"\",\"\",VLOOKUP(B648,Menù!$A$2:$C$1000,2,FALSE))","v":""},"",""]
[null,null,null,{"$f":"IF(B649=\"\",\"\",VLOOKUP(B649,Menù!$A$2:$C$1000,2,FALSE))","v":""},"",""]
[null,null,null,{"$f":"IF(B650=\"\",\"\",VLOOKUP(B650,Menù!$A$2:$C$1000,2,FALSE))","v":""},"",""]
[null,null,null,{"$f":"IF(B651=\"\",\"\",VLOOKUP(B651,Menù!$A$2:$C$1000,2,FALSE))","v":""},"",""]
[null,null,null,{"$f":"IF(B652=\"\",\"\",VLOOKUP(B652,Menù!$A$2:$C$1000,2,FALSE))","v":""},"",""]
[null,null,null,{"$f":"IF(B653=\"\",\"\",VLOOKUP(B653,Menù!$A$2:$C$1000,2,FALSE))","v":""},"",""]
[null,null,null,{"$f":"IF(B654=\"\",\"\",VLOOKUP(B654,Menù!$A$2:$C$1000,2,FALSE))","v":""},"",""]
[null,null,null,{"$f":"IF(B655=\"\",\"\",VLOOKUP(B655,Menù!$A$2:$C$1000,2,FALSE))","v":""},"",""]
[null,null,null,{"$f":"IF(B656=\"\",\"\",VLOOKUP(B656,Menù!$A$2:$C$1000,2,FALSE))","v":""},"",""]
[null,null,null,{"$f":"IF(B657=\"\",\"\",VLOOKUP(B657,Menù!$A$2:$C$1000,2,FALSE))","v":""},"",""]
[null,null,null,{"$f":"IF(B658=\"\",\"\",VLOOKUP(B658,Menù!$A$2:$C$1000,2,FALSE))","v":""},"",""]
[null,null,null,{"$f":"IF(B659=\"\",\"\",VLOOKUP(B659,Menù!$A$2:$C$1000,2,FALSE))","v":""},"",""]
[null,null,null,{"$f":"IF(B660=\"\",\"\",VLOOKUP(B660,Menù!$A$2:$C$1000,2,FALSE))","v":""},"",""]
[null,null,null,{"$f":"IF(B661=\"\",\"\",VLOOKUP(B661,Menù!$A$2:$C$1000,2,FALSE))","v":""},"",""]
[null,null,null,{"$f":"IF(B662=\"\",\"\",VLOOKUP(B662,Menù!$A$2:$C$1000,2,FALSE))","v":""},"",""]
[null,null,null,{"$f":"IF(B663=\"\",\"\",VLOOKUP(B663,Menù!$A$2:$C$1000,2,FALSE))","v":""},"",""]
[null,null,null,{"$f":"IF(B664=\"\",\"\",VLOOKUP(B664,Menù!$A$2:$C$1000,2,FALSE))","v":""},"",""]
[null,null,null,{"$f":"IF(B665=\"\",\"\",VLOOKUP(B665,Menù!$A$2:$C$1000,2,FALSE))","v":""},"",""]
[null,null,null,{"$f":"IF(B666=\"\",\"\",VLOOKUP(B666,Menù!$A$2:$C$1000,2,FALSE))","v":""},"",""]
[null,null,null,{"$f":"IF(B667=\"\",\"\",VLOOKUP(B667,Menù!$A$2:$C$1000,2,FALSE))","v":""},"",""]
[null,null,null,{"$f":"IF(B668=\"\",\"\",VLOOKUP(B668,Menù!$A$2:$C$1000,2,FALSE))","v":""},"",""]
[null,null,null,{"$f":"IF(B669=\"\",\"\",VLOOKUP(B669,Menù!$A$2:$C$1000,2,FALSE))","v":""},"",""]
[null,null,null,{"$f":"IF(B670=\"\",\"\",VLOOKUP(B670,Menù!$A$2:$C$1000,2,FALSE))","v":""},"",""]
[null,null,null,{"$f":"IF(B671=\"\",\"\",VLOOKUP(B671,Menù!$A$2:$C$1000,2,FALSE))","v":""},"",""]
[null,null,null,{"$f":"IF(B672=\"\",\"\",VLOOKUP(B672,Menù!$A$2:$C$1000,2,FALSE))","v":""},"",""]
[null,null,null,{"$f":"IF(B673=\"\",\"\",VLOOKUP(B673,Menù!$A$2:$C$1000,2,FALSE))","v":""},"",""]
[null,null,null,{"$f":"IF(B674=\"\",\"\",VLOOKUP(B674,Menù!$A$2:$C$1000,2,FALSE))","v":""},"",""]
[null,null,null,{"$f":"IF(B675=\"\",\"\",VLOOKUP(B675,Menù!$A$2:$C$1000,2,FALSE))","v":""},"",""]
[null,null,null,{"$f":"IF(B676=\"\",\"\",VLOOKUP(B676,Menù!$A$2:$C$1000,2,FALSE))","v":""},"",""]
[null,null,null,{"$f":"IF(B677=\"\",\"\",VLOOKUP(B677,Menù!$A$2:$C$1000,2,FALSE))","v":""},"",""]
[null,null,null,{"$f":"IF(B678=\"\",\"\",VLOOKUP(B678,Menù!$A$2:$C$1000,2,FALSE))","v":""},"",""]
[null,null,null,{"$f":"IF(B679=\"\",\"\",VLOOKUP(B679,Menù!$A$2:$C$1000,2,FALSE))","v":""},"",""]
[null,null,null,{"$f":"IF(B680=\"\",\"\",VLOOKUP(B680,Menù!$A$2:$C$1000,2,FALSE))","v":""},"",""]
[null,null,null,{"$f":"IF(B681=\"\",\"\",VLOOKUP(B681,Menù!$A$2:$C$1000,2,FALSE))","v":""},"",""]
[null,null,null,{"$f":"IF(B682=\"\",\"\",VLOOKUP(B682,Menù!$A$2:$C$1000,2,FALSE))","v":""},"",""]
[null,null,null,{"$f":"IF(B683=\"\",\"\",VLOOKUP(B683,Menù!$A$2:$C$1000,2,FALSE))","v":""},"",""]
[null,null,null,{"$f":"IF(B684=\"\",\"\",VLOOKUP(B684,Menù!$A$2:$C$1000,2,FALSE))","v":""},"",""]
[null,null,null,{"$f":"IF(B685=\"\",\"\",VLOOKUP(B685,Menù!$A$2:$C$1000,2,FALSE))","v":""},"",""]
[null,null,null,{"$f":"IF(B686=\"\",\"\",VLOOKUP(B686,Menù!$A$2:$C$1000,2,FALSE))","v":""},"",""]
[null,null,null,{"$f":"IF(B687=\"\",\"\",VLOOKUP(B687,Menù!$A$2:$C$1000,2,FALSE))","v":""},"",""]
[null,null,null,{"$f":"IF(B688=\"\",\"\",VLOOKUP(B688,Menù!$A$2:$C$1000,2,FALSE))","v":""},"",""]
[null,null,null,{"$f":"IF(B689=\"\",\"\",VLOOKUP(B689,Menù!$A$2:$C$1000,2,FALSE))","v":""},"",""]
[null,null,null,{"$f":"IF(B690=\"\",\"\",VLOOKUP(B690,Menù!$A$2:$C$1000,2,FALSE))","v":""},"",""]
[null,null,null,{"$f":"IF(B691=\"\",\"\",VLOOKUP(B691,Menù!$A$2:$C$1000,2,FALSE))","v":""},"",""]
[null,null,null,{"$f":"IF(B692=\"\",\"\",VLOOKUP(B692,Menù!$A$2:$C$1000,2,FALSE))","v":""},"",""]
[null,null,null,{"$f":"IF(B693=\"\",\"\",VLOOKUP(B693,Menù!$A$2:$C$1000,2,FALSE))","v":""},"",""]
[null,null,null,{"$f":"IF(B694=\"\",\"\",VLOOKUP(B694,Menù!$A$2:$C$1000,2,FALSE))","v":""},"",""]
[null,null,null,{"$f":"IF(B695=\"\",\"\",VLOOKUP(B695,Menù!$A$2:$C$1000,2,FALSE))","v":""},"",""]
[null,null,null,{"$f":"IF(B696=\"\",\"\",VLOOKUP(B696,Menù!$A$2:$C$1000,2,FALSE))","v":""},"",""]
[null,null,null,{"$f":"IF(B697=\"\",\"\",VLOOKUP(B697,Menù!$A$2:$C$1000,2,FALSE))","v":""},"",""]
[null,null,null,{"$f":"IF(B698=\"\",\"\",VLOOKUP(B698,Menù!$A$2:$C$1000,2,FALSE))","v":""},"",""]
[null,null,null,{"$f":"IF(B699=\"\",\"\",VLOOKUP(B699,Menù!$A$2:$C$1000,2,FALSE))","v":""},"",""]
[null,null,null,{"$f":"IF(B700=\"\",\"\",VLOOKUP(B700,Menù!$A$2:$C$1000,2,FALSE))","v":""},"",""]
[null,null,null,{"$f":"IF(B701=\"\",\"\",VLOOKUP(B701,Menù!$A$2:$C$1000,2,FALSE))","v":""},"",""]
[null,null,null,{"$f":"IF(B702=\"\",\"\",VLOOKUP(B702,Menù!$A$2:$C$1000,2,FALSE))","v":""},"",""]
[null,null,null,{"$f":"IF(B703=\"\",\"\",VLOOKUP(B703,Menù!$A$2:$C$1000,2,FALSE))","v":""},"",""]
[null,null,null,{"$f":"IF(B704=\"\",\"\",VLOOKUP(B704,Menù!$A$2:$C$1000,2,FALSE))","v":""},"",""]
[null,null,null,{"$f":"IF(B705=\"\",\"\",VLOOKUP(B705,Menù!$A$2:$C$1000,2,FALSE))","v":""},"",""]
[null,null,null,{"$f":"IF(B706=\"\",\"\",VLOOKUP(B706,Menù!$A$2:$C$1000,2,FALSE))","v":""},"",""]
[null,null,null,{"$f":"IF(B707=\"\",\"\",VLOOKUP(B707,Menù!$A$2:$C$1000,2,FALSE))","v":""},"",""]
[null,null,null,{"$f":"IF(B708=\"\",\"\",VLOOKUP(B708,Menù!$A$2:$C$1000,2,FALSE))","v":""},"",""]
[null,null,null,{"$f":"IF(B709=\"\",\"\",VLOOKUP(B709,Menù!$A$2:$C$1000,2,FALSE))","v":""},"",""]
[null,null,null,{"$f":"IF(B710=\"\",\"\",VLOOKUP(B710,Menù!$A$2:$C$1000,2,FALSE))","v":""},"",""]
[null,null,null,{"$f":"IF(B711=\"\",\"\",VLOOKUP(B711,Menù!$A$2:$C$1000,2,FALSE))","v":""},{"$f":"IF(B711=\"\",\"\",IF(C711=\"\",\"Scrivi la Quantità\",C711*D711))","v":""},{"$f":"IF(B711=\"\",\"\",IF(A711=\"\",\"Manca il tavolo!!!\",\"\"))","v":""}]
[null,null,null,{"$f":"IF(B712=\"\",\"\",VLOOKUP(B712,Menù!$A$2:$C$1000,2,FALSE))","v":""},"",""]
[null,null,null,{"$f":"IF(B713=\"\",\"\",VLOOKUP(B713,Menù!$A$2:$C$1000,2,FALSE))","v":""},"",""]
[null,null,null,{"$f":"IF(B714=\"\",\"\",VLOOKUP(B714,Menù!$A$2:$C$1000,2,FALSE))","v":""},"",""]
[null,null,null,{"$f":"IF(B715=\"\",\"\",VLOOKUP(B715,Menù!$A$2:$C$1000,2,FALSE))","v":""},"",""]
[null,null,null,{"$f":"IF(B716=\"\",\"\",VLOOKUP(B716,Menù!$A$2:$C$1000,2,FALSE))","v":""},"",""]
[null,null,null,{"$f":"IF(B717=\"\",\"\",VLOOKUP(B717,Menù!$A$2:$C$1000,2,FALSE))","v":""},"",""]
[null,null,null,{"$f":"IF(B718=\"\",\"\",VLOOKUP(B718,Menù!$A$2:$C$1000,2,FALSE))","v":""},"",""]
[null,null,null,{"$f":"IF(B719=\"\",\"\",VLOOKUP(B719,Menù!$A$2:$C$1000,2,FALSE))","v":""},"",""]
[null,null,null,{"$f":"IF(B720=\"\",\"\",VLOOKUP(B720,Menù!$A$2:$C$1000,2,FALSE))","v":""},"",""]
[null,null,null,{"$f":"IF(B721=\"\",\"\",VLOOKUP(B721,Menù!$A$2:$C$1000,2,FALSE))","v":""},"",""]
[null,null,null,{"$f":"IF(B722=\"\",\"\",VLOOKUP(B722,Menù!$A$2:$C$1000,2,FALSE))","v":""},"",""]
[null,null,null,{"$f":"IF(B723=\"\",\"\",VLOOKUP(B723,Menù!$A$2:$C$1000,2,FALSE))","v":""},"",""]
[null,null,null,{"$f":"IF(B724=\"\",\"\",VLOOKUP(B724,Menù!$A$2:$C$1000,2,FALSE))","v":""},"",""]
[null,null,null,{"$f":"IF(B725=\"\",\"\",VLOOKUP(B725,Menù!$A$2:$C$1000,2,FALSE))","v":""},"",""]
[null,null,null,{"$f":"IF(B726=\"\",\"\",VLOOKUP(B726,Menù!$A$2:$C$1000,2,FALSE))","v":""},"",""]
[null,null,null,{"$f":"IF(B727=\"\",\"\",VLOOKUP(B727,Menù!$A$2:$C$1000,2,FALSE))","v":""},"",""]
[null,null,null,{"$f":"IF(B728=\"\",\"\",VLOOKUP(B728,Menù!$A$2:$C$1000,2,FALSE))","v":""},"",""]
[null,null,null,{"$f":"IF(B729=\"\",\"\",VLOOKUP(B729,Menù!$A$2:$C$1000,2,FALSE))","v":""},"",""]
[null,null,null,{"$f":"IF(B730=\"\",\"\",VLOOKUP(B730,Menù!$A$2:$C$1000,2,FALSE))","v":""},"",""]
[null,null,null,{"$f":"IF(B731=\"\",\"\",VLOOKUP(B731,Menù!$A$2:$C$1000,2,FALSE))","v":""},"",""]
[null,null,null,{"$f":"IF(B732=\"\",\"\",VLOOKUP(B732,Menù!$A$2:$C$1000,2,FALSE))","v":""},"",""]
[null,null,null,{"$f":"IF(B733=\"\",\"\",VLOOKUP(B733,Menù!$A$2:$C$1000,2,FALSE))","v":""},"",""]
[null,null,null,{"$f":"IF(B734=\"\",\"\",VLOOKUP(B734,Menù!$A$2:$C$1000,2,FALSE))","v":""},"",""]
[null,null,null,{"$f":"IF(B735=\"\",\"\",VLOOKUP(B735,Menù!$A$2:$C$1000,2,FALSE))","v":""},"",""]
[null,null,null,{"$f":"IF(B736=\"\",\"\",VLOOKUP(B736,Menù!$A$2:$C$1000,2,FALSE))","v":""},"",""]
[null,null,null,{"$f":"IF(B737=\"\",\"\",VLOOKUP(B737,Menù!$A$2:$C$1000,2,FALSE))","v":""},"",""]
[null,null,null,{"$f":"IF(B738=\"\",\"\",VLOOKUP(B738,Menù!$A$2:$C$1000,2,FALSE))","v":""},"",""]
[null,null,null,{"$f":"IF(B739=\"\",\"\",VLOOKUP(B739,Menù!$A$2:$C$1000,2,FALSE))","v":""},"",""]
[null,null,null,{"$f":"IF(B740=\"\",\"\",VLOOKUP(B740,Menù!$A$2:$C$1000,2,FALSE))","v":""},"",""]
[null,null,null,{"$f":"IF(B741=\"\",\"\",VLOOKUP(B741,Menù!$A$2:$C$1000,2,FALSE))","v":""},"",""]
[null,null,null,{"$f":"IF(B742=\"\",\"\",VLOOKUP(B742,Menù!$A$2:$C$1000,2,FALSE))","v":""},"",""]
[null,null,null,{"$f":"IF(B743=\"\",\"\",VLOOKUP(B743,Menù!$A$2:$C$1000,2,FALSE))","v":""},"",""]
[null,null,null,{"$f":"IF(B744=\"\",\"\",VLOOKUP(B744,Menù!$A$2:$C$1000,2,FALSE))","v":""},"",""]
[null,null,null,{"$f":"IF(B745=\"\",\"\",VLOOKUP(B745,Menù!$A$2:$C$1000,2,FALSE))","v":""},"",""]
[null,null,null,{"$f":"IF(B746=\"\",\"\",VLOOKUP(B746,Menù!$A$2:$C$1000,2,FALSE))","v":""},"",""]
[null,null,null,{"$f":"IF(B747=\"\",\"\",VLOOKUP(B747,Menù!$A$2:$C$1000,2,FALSE))","v":""},"",""]
[null,null,null,{"$f":"IF(B748=\"\",\"\",VLOOKUP(B748,Menù!$A$2:$C$1000,2,FALSE))","v":""},"",""]
[null,null,null,{"$f":"IF(B749=\"\",\"\",VLOOKUP(B749,Menù!$A$2:$C$1000,2,FALSE))","v":""},"",""]
[null,null,null,{"$f":"IF(B750=\"\",\"\",VLOOKUP(B750,Menù!$A$2:$C$1000,2,FALSE))","v":""},"",""]
[null,null,null,{"$f":"IF(B751=\"\",\"\",VLOOKUP(B751,Menù!$A$2:$C$1000,2,FALSE))","v":""},"",""]
[null,null,null,{"$f":"IF(B752=\"\",\"\",VLOOKUP(B752,Menù!$A$2:$C$1000,2,FALSE))","v":""},"",""]
[null,null,null,{"$f":"IF(B753=\"\",\"\",VLOOKUP(B753,Menù!$A$2:$C$1000,2,FALSE))","v":""},"",""]
[null,null,null,{"$f":"IF(B754=\"\",\"\",VLOOKUP(B754,Menù!$A$2:$C$1000,2,FALSE))","v":""},"",""]
[null,null,null,{"$f":"IF(B755=\"\",\"\",VLOOKUP(B755,Menù!$A$2:$C$1000,2,FALSE))","v":""},"",""]
[null,null,null,{"$f":"IF(B756=\"\",\"\",VLOOKUP(B756,Menù!$A$2:$C$1000,2,FALSE))","v":""},"",""]
[null,null,null,{"$f":"IF(B757=\"\",\"\",VLOOKUP(B757,Menù!$A$2:$C$1000,2,FALSE))","v":""},"",""]
[null,null,null,{"$f":"IF(B758=\"\",\"\",VLOOKUP(B758,Menù!$A$2:$C$1000,2,FALSE))","v":""},"",""]
[null,null,null,{"$f":"IF(B759=\"\",\"\",VLOOKUP(B759,Menù!$A$2:$C$1000,2,FALSE))","v":""},"",""]
[null,null,null,{"$f":"IF(B760=\"\",\"\",VLOOKUP(B760,Menù!$A$2:$C$1000,2,FALSE))","v":""},"",""]
[null,null,null,{"$f":"IF(B761=\"\",\"\",VLOOKUP(B761,Menù!$A$2:$C$1000,2,FALSE))","v":""},"",""]
[null,null,null,{"$f":"IF(B762=\"\",\"\",VLOOKUP(B762,Menù!$A$2:$C$1000,2,FALSE))","v":""},"",""]
[null,null,null,{"$f":"IF(B763=\"\",\"\",VLOOKUP(B763,Menù!$A$2:$C$1000,2,FALSE))","v":""},"",""]
[null,null,null,{"$f":"IF(B764=\"\",\"\",VLOOKUP(B764,Menù!$A$2:$C$1000,2,FALSE))","v":""},"",""]
[null,null,null,{"$f":"IF(B765=\"\",\"\",VLOOKUP(B765,Menù!$A$2:$C$1000,2,FALSE))","v":""},"",""]
[null,null,null,{"$f":"IF(B766=\"\",\"\",VLOOKUP(B766,Menù!$A$2:$C$1000,2,FALSE))","v":""},"",""]
[null,null,null,{"$f":"IF(B767=\"\",\"\",VLOOKUP(B767,Menù!$A$2:$C$1000,2,FALSE))","v":""},"",""]
[null,null,null,{"$f":"IF(B768=\"\",\"\",VLOOKUP(B768,Menù!$A$2:$C$1000,2,FALSE))","v":""},"",""]
[null,null,null,{"$f":"IF(B769=\"\",\"\",VLOOKUP(B769,Menù!$A$2:$C$1000,2,FALSE))","v":""},"",""]
[null,null,null,{"$f":"IF(B770=\"\",\"\",VLOOKUP(B770,Menù!$A$2:$C$1000,2,FALSE))","v":""},"",""]
[null,null,null,{"$f":"IF(B771=\"\",\"\",VLOOKUP(B771,Menù!$A$2:$C$1000,2,FALSE))","v":""},"",""]
[null,null,null,{"$f":"IF(B772=\"\",\"\",VLOOKUP(B772,Menù!$A$2:$C$1000,2,FALSE))","v":""},"",""]
[null,null,null,{"$f":"IF(B773=\"\",\"\",VLOOKUP(B773,Menù!$A$2:$C$1000,2,FALSE))","v":""},"",""]
[null,null,null,{"$f":"IF(B774=\"\",\"\",VLOOKUP(B774,Menù!$A$2:$C$1000,2,FALSE))","v":""},"",""]
[null,null,null,{"$f":"IF(B775=\"\",\"\",VLOOKUP(B775,Menù!$A$2:$C$1000,2,FALSE))","v":""},{"$f":"IF(B775=\"\",\"\",IF(C775=\"\",\"Scrivi la Quantità\",C775*D775))","v":""},{"$f":"IF(B775=\"\",\"\",IF(A775=\"\",\"Manca il tavolo!!!\",\"\"))","v":""}]
[null,null,null,{"$f":"IF(B776=\"\",\"\",VLOOKUP(B776,Menù!$A$2:$C$1000,2,FALSE))","v":""},"",""]
[null,null,null,{"$f":"IF(B777=\"\",\"\",VLOOKUP(B777,Menù!$A$2:$C$1000,2,FALSE))","v":""},"",""]
[null,null,null,{"$f":"IF(B778=\"\",\"\",VLOOKUP(B778,Menù!$A$2:$C$1000,2,FALSE))","v":""},"",""]
[null,null,null,{"$f":"IF(B779=\"\",\"\",VLOOKUP(B779,Menù!$A$2:$C$1000,2,FALSE))","v":""},"",""]
[null,null,null,{"$f":"IF(B780=\"\",\"\",VLOOKUP(B780,Menù!$A$2:$C$1000,2,FALSE))","v":""},"",""]
[null,null,null,{"$f":"IF(B781=\"\",\"\",VLOOKUP(B781,Menù!$A$2:$C$1000,2,FALSE))","v":""},"",""]
[null,null,null,{"$f":"IF(B782=\"\",\"\",VLOOKUP(B782,Menù!$A$2:$C$1000,2,FALSE))","v":""},"",""]
[null,null,null,{"$f":"IF(B783=\"\",\"\",VLOOKUP(B783,Menù!$A$2:$C$1000,2,FALSE))","v":""},"",""]
[null,null,null,{"$f":"IF(B784=\"\",\"\",VLOOKUP(B784,Menù!$A$2:$C$1000,2,FALSE))","v":""},"",""]
[null,null,null,{"$f":"IF(B785=\"\",\"\",VLOOKUP(B785,Menù!$A$2:$C$1000,2,FALSE))","v":""},"",""]
[null,null,null,{"$f":"IF(B786=\"\",\"\",VLOOKUP(B786,Menù!$A$2:$C$1000,2,FALSE))","v":""},"",""]
[null,null,null,{"$f":"IF(B787=\"\",\"\",VLOOKUP(B787,Menù!$A$2:$C$1000,2,FALSE))","v":""},"",""]
[null,null,null,{"$f":"IF(B788=\"\",\"\",VLOOKUP(B788,Menù!$A$2:$C$1000,2,FALSE))","v":""},"",""]
[null,null,null,{"$f":"IF(B789=\"\",\"\",VLOOKUP(B789,Menù!$A$2:$C$1000,2,FALSE))","v":""},"",""]
[null,null,null,{"$f":"IF(B790=\"\",\"\",VLOOKUP(B790,Menù!$A$2:$C$1000,2,FALSE))","v":""},"",""]
[null,null,null,{"$f":"IF(B791=\"\",\"\",VLOOKUP(B791,Menù!$A$2:$C$1000,2,FALSE))","v":""},"",""]
[null,null,null,{"$f":"IF(B792=\"\",\"\",VLOOKUP(B792,Menù!$A$2:$C$1000,2,FALSE))","v":""},"",""]
[null,null,null,{"$f":"IF(B793=\"\",\"\",VLOOKUP(B793,Menù!$A$2:$C$1000,2,FALSE))","v":""},"",""]
[null,null,null,{"$f":"IF(B794=\"\",\"\",VLOOKUP(B794,Menù!$A$2:$C$1000,2,FALSE))","v":""},"",""]
[null,null,null,{"$f":"IF(B795=\"\",\"\",VLOOKUP(B795,Menù!$A$2:$C$1000,2,FALSE))","v":""},"",""]
[null,null,null,{"$f":"IF(B796=\"\",\"\",VLOOKUP(B796,Menù!$A$2:$C$1000,2,FALSE))","v":""},"",""]
[null,null,null,{"$f":"IF(B797=\"\",\"\",VLOOKUP(B797,Menù!$A$2:$C$1000,2,FALSE))","v":""},"",""]
[null,null,null,{"$f":"IF(B798=\"\",\"\",VLOOKUP(B798,Menù!$A$2:$C$1000,2,FALSE))","v":""},"",""]
[null,null,null,{"$f":"IF(B799=\"\",\"\",VLOOKUP(B799,Menù!$A$2:$C$1000,2,FALSE))","v":""},"",""]
[null,null,null,{"$f":"IF(B800=\"\",\"\",VLOOKUP(B800,Menù!$A$2:$C$1000,2,FALSE))","v":""},"",""]
[null,null,null,{"$f":"IF(B801=\"\",\"\",VLOOKUP(B801,Menù!$A$2:$C$1000,2,FALSE))","v":""},"",""]
[null,null,null,{"$f":"IF(B802=\"\",\"\",VLOOKUP(B802,Menù!$A$2:$C$1000,2,FALSE))","v":""},"",""]
[null,null,null,{"$f":"IF(B803=\"\",\"\",VLOOKUP(B803,Menù!$A$2:$C$1000,2,FALSE))","v":""},"",""]
[null,null,null,{"$f":"IF(B804=\"\",\"\",VLOOKUP(B804,Menù!$A$2:$C$1000,2,FALSE))","v":""},"",""]
[null,null,null,{"$f":"IF(B805=\"\",\"\",VLOOKUP(B805,Menù!$A$2:$C$1000,2,FALSE))","v":""},"",""]
[null,null,null,{"$f":"IF(B806=\"\",\"\",VLOOKUP(B806,Menù!$A$2:$C$1000,2,FALSE))","v":""},"",""]
[null,null,null,{"$f":"IF(B807=\"\",\"\",VLOOKUP(B807,Menù!$A$2:$C$1000,2,FALSE))","v":""},"",""]
[null,null,null,{"$f":"IF(B808=\"\",\"\",VLOOKUP(B808,Menù!$A$2:$C$1000,2,FALSE))","v":""},"",""]
[null,null,null,{"$f":"IF(B809=\"\",\"\",VLOOKUP(B809,Menù!$A$2:$C$1000,2,FALSE))","v":""},"",""]
[null,null,null,{"$f":"IF(B810=\"\",\"\",VLOOKUP(B810,Menù!$A$2:$C$1000,2,FALSE))","v":""},"",""]
[null,null,null,{"$f":"IF(B811=\"\",\"\",VLOOKUP(B811,Menù!$A$2:$C$1000,2,FALSE))","v":""},"",""]
[null,null,null,{"$f":"IF(B812=\"\",\"\",VLOOKUP(B812,Menù!$A$2:$C$1000,2,FALSE))","v":""},"",""]
[null,null,null,{"$f":"IF(B813=\"\",\"\",VLOOKUP(B813,Menù!$A$2:$C$1000,2,FALSE))","v":""},"",""]
[null,null,null,{"$f":"IF(B814=\"\",\"\",VLOOKUP(B814,Menù!$A$2:$C$1000,2,FALSE))","v":""},"",""]
[null,null,null,{"$f":"IF(B815=\"\",\"\",VLOOKUP(B815,Menù!$A$2:$C$1000,2,FALSE))","v":""},"",""]
[null,null,null,{"$f":"IF(B816=\"\",\"\",VLOOKUP(B816,Menù!$A$2:$C$1000,2,FALSE))","v":""},"",""]
[null,null,null,{"$f":"IF(B817=\"\",\"\",VLOOKUP(B817,Menù!$A$2:$C$1000,2,FALSE))","v":""},"",""]
[null,null,null,{"$f":"IF(B818=\"\",\"\",VLOOKUP(B818,Menù!$A$2:$C$1000,2,FALSE))","v":""},"",""]
[null,null,null,{"$f":"IF(B819=\"\",\"\",VLOOKUP(B819,Menù!$A$2:$C$1000,2,FALSE))","v":""},"",""]
[null,null,null,{"$f":"IF(B820=\"\",\"\",VLOOKUP(B820,Menù!$A$2:$C$1000,2,FALSE))","v":""},"",""]
[null,null,null,{"$f":"IF(B821=\"\",\"\",VLOOKUP(B821,Menù!$A$2:$C$1000,2,FALSE))","v":""},"",""]
[null,null,null,{"$f":"IF(B822=\"\",\"\",VLOOKUP(B822,Menù!$A$2:$C$1000,2,FALSE))","v":""},"",""]
[null,null,null,{"$f":"IF(B823=\"\",\"\",VLOOKUP(B823,Menù!$A$2:$C$1000,2,FALSE))","v":""},"",""]
[null,null,null,{"$f":"IF(B824=\"\",\"\",VLOOKUP(B824,Menù!$A$2:$C$1000,2,FALSE))","v":""},"",""]
[null,null,null,{"$f":"IF(B825=\"\",\"\",VLOOKUP(B825,Menù!$A$2:$C$1000,2,FALSE))","v":""},"",""]
[null,null,null,{"$f":"IF(B826=\"\",\"\",VLOOKUP(B826,Menù!$A$2:$C$1000,2,FALSE))","v":""},"",""]
[null,null,null,{"$f":"IF(B827=\"\",\"\",VLOOKUP(B827,Menù!$A$2:$C$1000,2,FALSE))","v":""},"",""]
[null,null,null,{"$f":"IF(B828=\"\",\"\",VLOOKUP(B828,Menù!$A$2:$C$1000,2,FALSE))","v":""},"",""]
[null,null,null,{"$f":"IF(B829=\"\",\"\",VLOOKUP(B829,Menù!$A$2:$C$1000,2,FALSE))","v":""},"",""]
[null,null,null,{"$f":"IF(B830=\"\",\"\",VLOOKUP(B830,Menù!$A$2:$C$1000,2,FALSE))","v":""},"",""]
[null,null,null,{"$f":"IF(B831=\"\",\"\",VLOOKUP(B831,Menù!$A$2:$C$1000,2,FALSE))","v":""},"",""]
[null,null,null,{"$f":"IF(B832=\"\",\"\",VLOOKUP(B832,Menù!$A$2:$C$1000,2,FALSE))","v":""},"",""]
[null,null,null,{"$f":"IF(B833=\"\",\"\",VLOOKUP(B833,Menù!$A$2:$C$1000,2,FALSE))","v":""},"",""]
[null,null,null,{"$f":"IF(B834=\"\",\"\",VLOOKUP(B834,Menù!$A$2:$C$1000,2,FALSE))","v":""},"",""]
[null,null,null,{"$f":"IF(B835=\"\",\"\",VLOOKUP(B835,Menù!$A$2:$C$1000,2,FALSE))","v":""},"",""]
[null,null,null,{"$f":"IF(B836=\"\",\"\",VLOOKUP(B836,Menù!$A$2:$C$1000,2,FALSE))","v":""},"",""]
[null,null,null,{"$f":"IF(B837=\"\",\"\",VLOOKUP(B837,Menù!$A$2:$C$1000,2,FALSE))","v":""},"",""]
[null,null,null,{"$f":"IF(B838=\"\",\"\",VLOOKUP(B838,Menù!$A$2:$C$1000,2,FALSE))","v":""},"",""]
[null,null,null,{"$f":"IF(B839=\"\",\"\",VLOOKUP(B839,Menù!$A$2:$C$1000,2,FALSE))","v":""},{"$f":"IF(B839=\"\",\"\",IF(C839=\"\",\"Scrivi la Quantità\",C839*D839))","v":""},{"$f":"IF(B839=\"\",\"\",IF(A839=\"\",\"Manca il tavolo!!!\",\"\"))","v":""}]
[null,null,null,{"$f":"IF(B840=\"\",\"\",VLOOKUP(B840,Menù!$A$2:$C$1000,2,FALSE))","v":""},"",""]
[null,null,null,{"$f":"IF(B841=\"\",\"\",VLOOKUP(B841,Menù!$A$2:$C$1000,2,FALSE))","v":""},"",""]
[null,null,null,{"$f":"IF(B842=\"\",\"\",VLOOKUP(B842,Menù!$A$2:$C$1000,2,FALSE))","v":""},"",""]
[null,null,null,{"$f":"IF(B843=\"\",\"\",VLOOKUP(B843,Menù!$A$2:$C$1000,2,FALSE))","v":""},"",""]
[null,null,null,{"$f":"IF(B844=\"\",\"\",VLOOKUP(B844,Menù!$A$2:$C$1000,2,FALSE))","v":""},"",""]
[null,null,null,{"$f":"IF(B845=\"\",\"\",VLOOKUP(B845,Menù!$A$2:$C$1000,2,FALSE))","v":""},"",""]
[null,null,null,{"$f":"IF(B846=\"\",\"\",VLOOKUP(B846,Menù!$A$2:$C$1000,2,FALSE))","v":""},"",""]
[null,null,null,{"$f":"IF(B847=\"\",\"\",VLOOKUP(B847,Menù!$A$2:$C$1000,2,FALSE))","v":""},"",""]
[null,null,null,{"$f":"IF(B848=\"\",\"\",VLOOKUP(B848,Menù!$A$2:$C$1000,2,FALSE))","v":""},"",""]
[null,null,null,{"$f":"IF(B849=\"\",\"\",VLOOKUP(B849,Menù!$A$2:$C$1000,2,FALSE))","v":""},"",""]
[null,null,null,{"$f":"IF(B850=\"\",\"\",VLOOKUP(B850,Menù!$A$2:$C$1000,2,FALSE))","v":""},"",""]
[null,null,null,{"$f":"IF(B851=\"\",\"\",VLOOKUP(B851,Menù!$A$2:$C$1000,2,FALSE))","v":""},"",""]
[null,null,null,{"$f":"IF(B852=\"\",\"\",VLOOKUP(B852,Menù!$A$2:$C$1000,2,FALSE))","v":""},"",""]
[null,null,null,{"$f":"IF(B853=\"\",\"\",VLOOKUP(B853,Menù!$A$2:$C$1000,2,FALSE))","v":""},"",""]
[null,null,null,{"$f":"IF(B854=\"\",\"\",VLOOKUP(B854,Menù!$A$2:$C$1000,2,FALSE))","v":""},"",""]
[null,null,null,{"$f":"IF(B855=\"\",\"\",VLOOKUP(B855,Menù!$A$2:$C$1000,2,FALSE))","v":""},"",""]
[null,null,null,{"$f":"IF(B856=\"\",\"\",VLOOKUP(B856,Menù!$A$2:$C$1000,2,FALSE))","v":""},"",""]
[null,null,null,{"$f":"IF(B857=\"\",\"\",VLOOKUP(B857,Menù!$A$2:$C$1000,2,FALSE))","v":""},"",""]
[null,null,null,{"$f":"IF(B858=\"\",\"\",VLOOKUP(B858,Menù!$A$2:$C$1000,2,FALSE))","v":""},"",""]
[null,null,null,{"$f":"IF(B859=\"\",\"\",VLOOKUP(B859,Menù!$A$2:$C$1000,2,FALSE))","v":""},"",""]
[null,null,null,{"$f":"IF(B860=\"\",\"\",VLOOKUP(B860,Menù!$A$2:$C$1000,2,FALSE))","v":""},"",""]
[null,null,null,{"$f":"IF(B861=\"\",\"\",VLOOKUP(B861,Menù!$A$2:$C$1000,2,FALSE))","v":""},"",""]
[null,null,null,{"$f":"IF(B862=\"\",\"\",VLOOKUP(B862,Menù!$A$2:$C$1000,2,FALSE))","v":""},"",""]
[null,null,null,{"$f":"IF(B863=\"\",\"\",VLOOKUP(B863,Menù!$A$2:$C$1000,2,FALSE))","v":""},"",""]
[null,null,null,{"$f":"IF(B864=\"\",\"\",VLOOKUP(B864,Menù!$A$2:$C$1000,2,FALSE))","v":""},"",""]
[null,null,null,{"$f":"IF(B865=\"\",\"\",VLOOKUP(B865,Menù!$A$2:$C$1000,2,FALSE))","v":""},"",""]
[null,null,null,{"$f":"IF(B866=\"\",\"\",VLOOKUP(B866,Menù!$A$2:$C$1000,2,FALSE))","v":""},"",""]
[null,null,null,{"$f":"IF(B867=\"\",\"\",VLOOKUP(B867,Menù!$A$2:$C$1000,2,FALSE))","v":""},"",""]
[null,null,null,{"$f":"IF(B868=\"\",\"\",VLOOKUP(B868,Menù!$A$2:$C$1000,2,FALSE))","v":""},"",""]
[null,null,null,{"$f":"IF(B869=\"\",\"\",VLOOKUP(B869,Menù!$A$2:$C$1000,2,FALSE))","v":""},"",""]
[null,null,null,{"$f":"IF(B870=\"\",\"\",VLOOKUP(B870,Menù!$A$2:$C$1000,2,FALSE))","v":""},"",""]
[null,null,null,{"$f":"IF(B871=\"\",\"\",VLOOKUP(B871,Menù!$A$2:$C$1000,2,FALSE))","v":""},"",""]
[null,null,null,{"$f":"IF(B872=\"\",\"\",VLOOKUP(B872,Menù!$A$2:$C$1000,2,FALSE))","v":""},"",""]
[null,null,null,{"$f":"IF(B873=\"\",\"\",VLOOKUP(B873,Menù!$A$2:$C$1000,2,FALSE))","v":""},"",""]
[null,null,null,{"$f":"IF(B874=\"\",\"\",VLOOKUP(B874,Menù!$A$2:$C$1000,2,FALSE))","v":""},"",""]
[null,null,null,{"$f":"IF(B875=\"\",\"\",VLOOKUP(B875,Menù!$A$2:$C$1000,2,FALSE))","v":""},"",""]
[null,null,null,{"$f":"IF(B876=\"\",\"\",VLOOKUP(B876,Menù!$A$2:$C$1000,2,FALSE))","v":""},"",""]
[null,null,null,{"$f":"IF(B877=\"\",\"\",VLOOKUP(B877,Menù!$A$2:$C$1000,2,FALSE))","v":""},"",""]
[null,null,null,{"$f":"IF(B878=\"\",\"\",VLOOKUP(B878,Menù!$A$2:$C$1000,2,FALSE))","v":""},"",""]
[null,null,null,{"$f":"IF(B879=\"\",\"\",VLOOKUP(B879,Menù!$A$2:$C$1000,2,FALSE))","v":""},"",""]
[null,null,null,{"$f":"IF(B880=\"\",\"\",VLOOKUP(B880,Menù!$A$2:$C$1000,2,FALSE))","v":""},"",""]
[null,null,null,{"$f":"IF(B881=\"\",\"\",VLOOKUP(B881,Menù!$A$2:$C$1000,2,FALSE))","v":""},"",""]
[null,null,null,{"$f":"IF(B882=\"\",\"\",VLOOKUP(B882,Menù!$A$2:$C$1000,2,FALSE))","v":""},"",""]
[null,null,null,{"$f":"IF(B883=\"\",\"\",VLOOKUP(B883,Menù!$A$2:$C$1000,2,FALSE))","v":""},"",""]
[null,null,null,{"$f":"IF(B884=\"\",\"\",VLOOKUP(B884,Menù!$A$2:$C$1000,2,FALSE))","v":""},"",""]
[null,null,null,{"$f":"IF(B885=\"\",\"\",VLOOKUP(B885,Menù!$A$2:$C$1000,2,FALSE))","v":""},"",""]
[null,null,null,{"$f":"IF(B886=\"\",\"\",VLOOKUP(B886,Menù!$A$2:$C$1000,2,FALSE))","v":""},"",""]
[null,null,null,{"$f":"IF(B887=\"\",\"\",VLOOKUP(B887,Menù!$A$2:$C$1000,2,FALSE))","v":""},"",""]
[null,null,null,{"$f":"IF(B888=\"\",\"\",VLOOKUP(B888,Menù!$A$2:$C$1000,2,FALSE))","v":""},"",""]
[null,null,null,{"$f":"IF(B889=\"\",\"\",VLOOKUP(B889,Menù!$A$2:$C$1000,2,FALSE))","v":""},"",""]
[null,null,null,{"$f":"IF(B890=\"\",\"\",VLOOKUP(B890,Menù!$A$2:$C$1000,2,FALSE))","v":""},"",""]
[null,null,null,{"$f":"IF(B891=\"\",\"\",VLOOKUP(B891,Menù!$A$2:$C$1000,2,FALSE))","v":""},"",""]
[null,null,null,{"$f":"IF(B892=\"\",\"\",VLOOKUP(B892,Menù!$A$2:$C$1000,2,FALSE))","v":""},"",""]
[null,null,null,{"$f":"IF(B893=\"\",\"\",VLOOKUP(B893,Menù!$A$2:$C$1000,2,FALSE))","v":""},"",""]
[null,null,null,{"$f":"IF(B894=\"\",\"\",VLOOKUP(B894,Menù!$A$2:$C$1000,2,FALSE))","v":""},"",""]
[null,null,null,{"$f":"IF(B895=\"\",\"\",VLOOKUP(B895,Menù!$A$2:$C$1000,2,FALSE))","v":""},"",""]
[null,null,null,{"$f":"IF(B896=\"\",\"\",VLOOKUP(B896,Menù!$A$2:$C$1000,2,FALSE))","v":""},"",""]
[null,null,null,{"$f":"IF(B897=\"\",\"\",VLOOKUP(B897,Menù!$A$2:$C$1000,2,FALSE))","v":""},"",""]
[null,null,null,{"$f":"IF(B898=\"\",\"\",VLOOKUP(B898,Menù!$A$2:$C$1000,2,FALSE))","v":""},"",""]
[null,null,null,{"$f":"IF(B899=\"\",\"\",VLOOKUP(B899,Menù!$A$2:$C$1000,2,FALSE))","v":""},"",""]
[null,null,null,{"$f":"IF(B900=\"\",\"\",VLOOKUP(B900,Menù!$A$2:$C$1000,2,FALSE))","v":""},"",""]
[null,null,null,{"$f":"IF(B901=\"\",\"\",VLOOKUP(B901,Menù!$A$2:$C$1000,2,FALSE))","v":""},"",""]
[null,null,null,{"$f":"IF(B902=\"\",\"\",VLOOKUP(B902,Menù!$A$2:$C$1000,2,FALSE))","v":""},"",""]
[null,null,null,{"$f":"IF(B903=\"\",\"\",VLOOKUP(B903,Menù!$A$2:$C$1000,2,FALSE))","v":""},{"$f":"IF(B903=\"\",\"\",IF(C903=\"\",\"Scrivi la Quantità\",C903*D903))","v":""},{"$f":"IF(B903=\"\",\"\",IF(A903=\"\",\"Manca il tavolo!!!\",\"\"))","v":""}]
[null,null,null,{"$f":"IF(B904=\"\",\"\",VLOOKUP(B904,Menù!$A$2:$C$1000,2,FALSE))","v":""},"",""]
[null,null,null,{"$f":"IF(B905=\"\",\"\",VLOOKUP(B905,Menù!$A$2:$C$1000,2,FALSE))","v":""},"",""]
[null,null,null,{"$f":"IF(B906=\"\",\"\",VLOOKUP(B906,Menù!$A$2:$C$1000,2,FALSE))","v":""},"",""]
[null,null,null,{"$f":"IF(B907=\"\",\"\",VLOOKUP(B907,Menù!$A$2:$C$1000,2,FALSE))","v":""},"",""]
[null,null,null,{"$f":"IF(B908=\"\",\"\",VLOOKUP(B908,Menù!$A$2:$C$1000,2,FALSE))","v":""},"",""]
[null,null,null,{"$f":"IF(B909=\"\",\"\",VLOOKUP(B909,Menù!$A$2:$C$1000,2,FALSE))","v":""},"",""]
[null,null,null,{"$f":"IF(B910=\"\",\"\",VLOOKUP(B910,Menù!$A$2:$C$1000,2,FALSE))","v":""},"",""]
[null,null,null,{"$f":"IF(B911=\"\",\"\",VLOOKUP(B911,Menù!$A$2:$C$1000,2,FALSE))","v":""},"",""]
[null,null,null,{"$f":"IF(B912=\"\",\"\",VLOOKUP(B912,Menù!$A$2:$C$1000,2,FALSE))","v":""},"",""]
[null,null,null,{"$f":"IF(B913=\"\",\"\",VLOOKUP(B913,Menù!$A$2:$C$1000,2,FALSE))","v":""},"",""]
[null,null,null,{"$f":"IF(B914=\"\",\"\",VLOOKUP(B914,Menù!$A$2:$C$1000,2,FALSE))","v":""},"",""]
[null,null,null,{"$f":"IF(B915=\"\",\"\",VLOOKUP(B915,Menù!$A$2:$C$1000,2,FALSE))","v":""},"",""]
[null,null,null,{"$f":"IF(B916=\"\",\"\",VLOOKUP(B916,Menù!$A$2:$C$1000,2,FALSE))","v":""},"",""]
[null,null,null,{"$f":"IF(B917=\"\",\"\",VLOOKUP(B917,Menù!$A$2:$C$1000,2,FALSE))","v":""},"",""]
[null,null,null,{"$f":"IF(B918=\"\",\"\",VLOOKUP(B918,Menù!$A$2:$C$1000,2,FALSE))","v":""},"",""]
[null,null,null,{"$f":"IF(B919=\"\",\"\",VLOOKUP(B919,Menù!$A$2:$C$1000,2,FALSE))","v":""},"",""]
[null,null,null,{"$f":"IF(B920=\"\",\"\",VLOOKUP(B920,Menù!$A$2:$C$1000,2,FALSE))","v":""},"",""]
[null,null,null,{"$f":"IF(B921=\"\",\"\",VLOOKUP(B921,Menù!$A$2:$C$1000,2,FALSE))","v":""},"",""]
[null,null,null,{"$f":"IF(B922=\"\",\"\",VLOOKUP(B922,Menù!$A$2:$C$1000,2,FALSE))","v":""},"",""]
[null,null,null,{"$f":"IF(B923=\"\",\"\",VLOOKUP(B923,Menù!$A$2:$C$1000,2,FALSE))","v":""},"",""]
[null,null,null,{"$f":"IF(B924=\"\",\"\",VLOOKUP(B924,Menù!$A$2:$C$1000,2,FALSE))","v":""},"",""]
[null,null,null,{"$f":"IF(B925=\"\",\"\",VLOOKUP(B925,Menù!$A$2:$C$1000,2,FALSE))","v":""},"",""]
[null,null,null,{"$f":"IF(B926=\"\",\"\",VLOOKUP(B926,Menù!$A$2:$C$1000,2,FALSE))","v":""},"",""]
[null,null,null,{"$f":"IF(B927=\"\",\"\",VLOOKUP(B927,Menù!$A$2:$C$1000,2,FALSE))","v":""},"",""]
[null,null,null,{"$f":"IF(B928=\"\",\"\",VLOOKUP(B928,Menù!$A$2:$C$1000,2,FALSE))","v":""},"",""]
[null,null,null,{"$f":"IF(B929=\"\",\"\",VLOOKUP(B929,Menù!$A$2:$C$1000,2,FALSE))","v":""},"",""]
[null,null,null,{"$f":"IF(B930=\"\",\"\",VLOOKUP(B930,Menù!$A$2:$C$1000,2,FALSE))","v":""},"",""]
[null,null,null,{"$f":"IF(B931=\"\",\"\",VLOOKUP(B931,Menù!$A$2:$C$1000,2,FALSE))","v":""},"",""]
[null,null,null,{"$f":"IF(B932=\"\",\"\",VLOOKUP(B932,Menù!$A$2:$C$1000,2,FALSE))","v":""},"",""]
[null,null,null,{"$f":"IF(B933=\"\",\"\",VLOOKUP(B933,Menù!$A$2:$C$1000,2,FALSE))","v":""},"",""]
[null,null,null,{"$f":"IF(B934=\"\",\"\",VLOOKUP(B934,Menù!$A$2:$C$1000,2,FALSE))","v":""},"",""]
[null,null,null,{"$f":"IF(B935=\"\",\"\",VLOOKUP(B935,Menù!$A$2:$C$1000,2,FALSE))","v":""},"",""]
[null,null,null,{"$f":"IF(B936=\"\",\"\",VLOOKUP(B936,Menù!$A$2:$C$1000,2,FALSE))","v":""},"",""]
[null,null,null,{"$f":"IF(B937=\"\",\"\",VLOOKUP(B937,Menù!$A$2:$C$1000,2,FALSE))","v":""},"",""]
[null,null,null,{"$f":"IF(B938=\"\",\"\",VLOOKUP(B938,Menù!$A$2:$C$1000,2,FALSE))","v":""},"",""]
[null,null,null,{"$f":"IF(B939=\"\",\"\",VLOOKUP(B939,Menù!$A$2:$C$1000,2,FALSE))","v":""},"",""]
[null,null,null,{"$f":"IF(B940=\"\",\"\",VLOOKUP(B940,Menù!$A$2:$C$1000,2,FALSE))","v":""},"",""]
[null,null,null,{"$f":"IF(B941=\"\",\"\",VLOOKUP(B941,Menù!$A$2:$C$1000,2,FALSE))","v":""},"",""]
[null,null,null,{"$f":"IF(B942=\"\",\"\",VLOOKUP(B942,Menù!$A$2:$C$1000,2,FALSE))","v":""},"",""]
[null,null,null,{"$f":"IF(B943=\"\",\"\",VLOOKUP(B943,Menù!$A$2:$C$1000,2,FALSE))","v":""},"",""]
[null,null,null,{"$f":"IF(B944=\"\",\"\",VLOOKUP(B944,Menù!$A$2:$C$1000,2,FALSE))","v":""},"",""]
[null,null,null,{"$f":"IF(B945=\"\",\"\",VLOOKUP(B945,Menù!$A$2:$C$1000,2,FALSE))","v":""},"",""]
[null,null,null,{"$f":"IF(B946=\"\",\"\",VLOOKUP(B946,Menù!$A$2:$C$1000,2,FALSE))","v":""},"",""]
[null,null,null,{"$f":"IF(B947=\"\",\"\",VLOOKUP(B947,Menù!$A$2:$C$1000,2,FALSE))","v":""},"",""]
[null,null,null,{"$f":"IF(B948=\"\",\"\",VLOOKUP(B948,Menù!$A$2:$C$1000,2,FALSE))","v":""},"",""]
[null,null,null,{"$f":"IF(B949=\"\",\"\",VLOOKUP(B949,Menù!$A$2:$C$1000,2,FALSE))","v":""},"",""]
[null,null,null,{"$f":"IF(B950=\"\",\"\",VLOOKUP(B950,Menù!$A$2:$C$1000,2,FALSE))","v":""},"",""]
[null,null,null,{"$f":"IF(B951=\"\",\"\",VLOOKUP(B951,Menù!$A$2:$C$1000,2,FALSE))","v":""},"",""]
[null,null,null,{"$f":"IF(B952=\"\",\"\",VLOOKUP(B952,Menù!$A$2:$C$1000,2,FALSE))","v":""},"",""]
[null,null,null,{"$f":"IF(B953=\"\",\"\",VLOOKUP(B953,Menù!$A$2:$C$1000,2,FALSE))","v":""},"",""]
[null,null,null,{"$f":"IF(B954=\"\",\"\",VLOOKUP(B954,Menù!$A$2:$C$1000,2,FALSE))","v":""},"",""]
[null,null,null,{"$f":"IF(B955=\"\",\"\",VLOOKUP(B955,Menù!$A$2:$C$1000,2,FALSE))","v":""},"",""]
[null,null,null,{"$f":"IF(B956=\"\",\"\",VLOOKUP(B956,Menù!$A$2:$C$1000,2,FALSE))","v":""},"",""]
[null,null,null,{"$f":"IF(B957=\"\",\"\",VLOOKUP(B957,Menù!$A$2:$C$1000,2,FALSE))","v":""},"",""]
[null,null,null,{"$f":"IF(B958=\"\",\"\",VLOOKUP(B958,Menù!$A$2:$C$1000,2,FALSE))","v":""},"",""]
[null,null,null,{"$f":"IF(B959=\"\",\"\",VLOOKUP(B959,Menù!$A$2:$C$1000,2,FALSE))","v":""},"",""]
[null,null,null,{"$f":"IF(B960=\"\",\"\",VLOOKUP(B960,Menù!$A$2:$C$1000,2,FALSE))","v":""},"",""]
[null,null,null,{"$f":"IF(B961=\"\",\"\",VLOOKUP(B961,Menù!$A$2:$C$1000,2,FALSE))","v":""},"",""]
[null,null,null,{"$f":"IF(B962=\"\",\"\",VLOOKUP(B962,Menù!$A$2:$C$1000,2,FALSE))","v":""},"",""]
[null,null,null,{"$f":"IF(B963=\"\",\"\",VLOOKUP(B963,Menù!$A$2:$C$1000,2,FALSE))","v":""},"",""]
[null,null,null,{"$f":"IF(B964=\"\",\"\",VLOOKUP(B964,Menù!$A$2:$C$1000,2,FALSE))","v":""},"",""]
[null,null,null,{"$f":"IF(B965=\"\",\"\",VLOOKUP(B965,Menù!$A$2:$C$1000,2,FALSE))","v":""},"",""]
[null,null,null,{"$f":"IF(B966=\"\",\"\",VLOOKUP(B966,Menù!$A$2:$C$1000,2,FALSE))","v":""},"",""]
[null,null,null,{"$f":"IF(B967=\"\",\"\",VLOOKUP(B967,Menù!$A$2:$C$1000,2,FALSE))","v":""},{"$f":"IF(B967=\"\",\"\",IF(C967=\"\",\"Scrivi la Quantità\",C967*D967))","v":""},{"$f":"IF(B967=\"\",\"\",IF(A967=\"\",\"Manca il tavolo!!!\",\"\"))","v":""}]
[null,null,null,{"$f":"IF(B968=\"\",\"\",VLOOKUP(B968,Menù!$A$2:$C$1000,2,FALSE))","v":""},"",""]
[null,null,null,{"$f":"IF(B969=\"\",\"\",VLOOKUP(B969,Menù!$A$2:$C$1000,2,FALSE))","v":""},"",""]
[null,null,null,{"$f":"IF(B970=\"\",\"\",VLOOKUP(B970,Menù!$A$2:$C$1000,2,FALSE))","v":""},"",""]
[null,null,null,{"$f":"IF(B971=\"\",\"\",VLOOKUP(B971,Menù!$A$2:$C$1000,2,FALSE))","v":""},"",""]
[null,null,null,{"$f":"IF(B972=\"\",\"\",VLOOKUP(B972,Menù!$A$2:$C$1000,2,FALSE))","v":""},"",""]
[null,null,null,{"$f":"IF(B973=\"\",\"\",VLOOKUP(B973,Menù!$A$2:$C$1000,2,FALSE))","v":""},"",""]
[null,null,null,{"$f":"IF(B974=\"\",\"\",VLOOKUP(B974,Menù!$A$2:$C$1000,2,FALSE))","v":""},"",""]
[null,null,null,{"$f":"IF(B975=\"\",\"\",VLOOKUP(B975,Menù!$A$2:$C$1000,2,FALSE))","v":""},"",""]
[null,null,null,{"$f":"IF(B976=\"\",\"\",VLOOKUP(B976,Menù!$A$2:$C$1000,2,FALSE))","v":""},"",""]
[null,null,null,{"$f":"IF(B977=\"\",\"\",VLOOKUP(B977,Menù!$A$2:$C$1000,2,FALSE))","v":""},"",""]
[null,null,null,{"$f":"IF(B978=\"\",\"\",VLOOKUP(B978,Menù!$A$2:$C$1000,2,FALSE))","v":""},"",""]
[null,null,null,{"$f":"IF(B979=\"\",\"\",VLOOKUP(B979,Menù!$A$2:$C$1000,2,FALSE))","v":""},"",""]
[null,null,null,{"$f":"IF(B980=\"\",\"\",VLOOKUP(B980,Menù!$A$2:$C$1000,2,FALSE))","v":""},"",""]
[null,null,null,{"$f":"IF(B981=\"\",\"\",VLOOKUP(B981,Menù!$A$2:$C$1000,2,FALSE))","v":""},"",""]
[null,null,null,{"$f":"IF(B982=\"\",\"\",VLOOKUP(B982,Menù!$A$2:$C$1000,2,FALSE))","v":""},"",""]
[null,null,null,{"$f":"IF(B983=\"\",\"\",VLOOKUP(B983,Menù!$A$2:$C$1000,2,FALSE))","v":""},"",""]
[null,null,null,{"$f":"IF(B984=\"\",\"\",VLOOKUP(B984,Menù!$A$2:$C$1000,2,FALSE))","v":""},"",""]
[null,null,null,{"$f":"IF(B985=\"\",\"\",VLOOKUP(B985,Menù!$A$2:$C$1000,2,FALSE))","v":""},"",""]
[null,null,null,{"$f":"IF(B986=\"\",\"\",VLOOKUP(B986,Menù!$A$2:$C$1000,2,FALSE))","v":""},"",""]
[null,null,null,{"$f":"IF(B987=\"\",\"\",VLOOKUP(B987,Menù!$A$2:$C$1000,2,FALSE))","v":""},"",""]
[null,null,null,{"$f":"IF(B988=\"\",\"\",VLOOKUP(B988,Menù!$A$2:$C$1000,2,FALSE))","v":""},"",""]
[null,null,null,{"$f":"IF(B989=\"\",\"\",VLOOKUP(B989,Menù!$A$2:$C$1000,2,FALSE))","v":""},"",""]
[null,null,null,{"$f":"IF(B990=\"\",\"\",VLOOKUP(B990,Menù!$A$2:$C$1000,2,FALSE))","v":""},"",""]
[null,null,null,{"$f":"IF(B991=\"\",\"\",VLOOKUP(B991,Menù!$A$2:$C$1000,2,FALSE))","v":""},"",""]
[null,null,null,{"$f":"IF(B992=\"\",\"\",VLOOKUP(B992,Menù!$A$2:$C$1000,2,FALSE))","v":""},"",""]
[null,null,null,{"$f":"IF(B993=\"\",\"\",VLOOKUP(B993,Menù!$A$2:$C$1000,2,FALSE))","v":""},"",""]
[null,null,null,{"$f":"IF(B994=\"\",\"\",VLOOKUP(B994,Menù!$A$2:$C$1000,2,FALSE))","v":""},"",""]
[null,null,null,{"$f":"IF(B995=\"\",\"\",VLOOKUP(B995,Menù!$A$2:$C$1000,2,FALSE))","v":""},"",""]
[null,null,null,{"$f":"IF(B996=\"\",\"\",VLOOKUP(B996,Menù!$A$2:$C$1000,2,FALSE))","v":""},"",""]
[null,null,null,{"$f":"IF(B997=\"\",\"\",VLOOKUP(B997,Menù!$A$2:$C$1000,2,FALSE))","v":""},"",""]
[null,null,null,{"$f":"IF(B998=\"\",\"\",VLOOKUP(B998,Menù!$A$2:$C$1000,2,FALSE))","v":""},"",""]
[null,null,null,{"$f":"IF(B999=\"\",\"\",VLOOKUP(B999,Menù!$A$2:$C$1000,2,FALSE))","v":""},"",""]
[null,null,null,{"$f":"IF(B1000=\"\",\"\",VLOOKUP(B1000,Menù!$A$2:$C$1000,2,FALSE))","v":""},"",{"$f":"IF(B1000=\"\",\"\",IF(A1004=\"\",\"Manca il tavolo!!!\",\"\"))","v":""}]
[]
[{"$f":"SUBTOTAL(4,$A$5:$A$1000)","v":22},"Imponibile",null,null,{"$f":"E1004/((C1003/100)+1)","v":233.71900826446281}]
[{"$f":"SUBTOTAL(4,$A$5:$A$1000)","v":22},"Iva %",21,null,{"$f":"E1002*C1003/100","v":49.080991735537189}]
[{"$f":"SUBTOTAL(4,$A$5:$A$1000)","v":22},"TOTALE",null,null,{"$f":"SUBTOTAL(9,E4:E1000)","v":282.8}]